BEGIN:VCALENDAR
VERSION:2.0
PRODID:-//Workforce Solutions Cameron - ECPv6.2.6//NONSGML v1.0//EN
CALSCALE:GREGORIAN
METHOD:PUBLISH
X-WR-CALNAME:Workforce Solutions Cameron
X-ORIGINAL-URL:https://www.wfscameron.org
X-WR-CALDESC:Events for Workforce Solutions Cameron
REFRESH-INTERVAL;VALUE=DURATION:PT1H
X-Robots-Tag:noindex
X-PUBLISHED-TTL:PT1H
BEGIN:VTIMEZONE
TZID:America/Chicago
BEGIN:DAYLIGHT
TZOFFSETFROM:-0600
TZOFFSETTO:-0500
TZNAME:CDT
DTSTART:20210314T080000
END:DAYLIGHT
BEGIN:STANDARD
TZOFFSETFROM:-0500
TZOFFSETTO:-0600
TZNAME:CST
DTSTART:20211107T070000
END:STANDARD
END:VTIMEZONE
BEGIN:VEVENT
DTSTART;TZID=America/Chicago:20210810T090000
DTEND;TZID=America/Chicago:20210810T120000
DTSTAMP:20260424T140228
CREATED:20210716T144656Z
LAST-MODIFIED:20210726T130633Z
UID:3974-1628586000-1628596800@www.wfscameron.org
SUMMARY:Virtual Job Readiness Workshop
DESCRIPTION:Our Job Readiness workshops prepare jobseekers of all ages and walks of life to successfully seek and obtain employment.Upon completion of the workshop\, participants get a certificate endorsed by Workforce Solutions Cameron.Topics include:– Job Search Tools– Resume Writing– Interviewing Principles– Financial Literacy featuring Claudia Kowalski\, cdcb.JOIN HERE AT 9AM:https://us02web.zoom.us/j/84247561530
URL:https://www.wfscameron.org/event/virtual-job-readiness-workshop/
LOCATION:TX
ATTACH;FMTTYPE=image/png:https://www.wfscameron.org/wp-content/uploads/2021/07/Job-Readiness-Photo.png
END:VEVENT
END:VCALENDAR