BEGIN:VCALENDAR
VERSION:2.0
PRODID:-//Workforce Solutions Cameron - ECPv6.2.6//NONSGML v1.0//EN
CALSCALE:GREGORIAN
METHOD:PUBLISH
X-ORIGINAL-URL:https://www.wfscameron.org
X-WR-CALDESC:Events for Workforce Solutions Cameron
REFRESH-INTERVAL;VALUE=DURATION:PT1H
X-Robots-Tag:noindex
X-PUBLISHED-TTL:PT1H
BEGIN:VTIMEZONE
TZID:America/Chicago
BEGIN:DAYLIGHT
TZOFFSETFROM:-0600
TZOFFSETTO:-0500
TZNAME:CDT
DTSTART:20220313T080000
END:DAYLIGHT
BEGIN:STANDARD
TZOFFSETFROM:-0500
TZOFFSETTO:-0600
TZNAME:CST
DTSTART:20221106T070000
END:STANDARD
END:VTIMEZONE
BEGIN:VEVENT
DTSTART;TZID=America/Chicago:20220303T080000
DTEND;TZID=America/Chicago:20220303T170000
DTSTAMP:20260424T123914
CREATED:20220225T220324Z
LAST-MODIFIED:20220225T220324Z
UID:4624-1646294400-1646326800@www.wfscameron.org
SUMMARY:Valley International Cold Storage Hiring Event
DESCRIPTION:Valley International Cold Storage is hiring! \nThey’ll be hosting a hiring event on Thursday\, March 3rd from 8am – 5pm at their Harlingen location (200 North FM 509 Harlingen\, TX. 78550). \nThey are seeking: Production\, Production Team Lead\, Production Supervisor\, Forklift and Quality Control. \n*AM AND PM SHIFTS AVAILABLE!* \nDon’t miss it!
URL:https://www.wfscameron.org/event/valley-international-cold-storage-hiring-event-2/
LOCATION:TX
ATTACH;FMTTYPE=image/png:https://www.wfscameron.org/wp-content/uploads/2022/02/Valley-International-Hiring-Event-March-2022.png
END:VEVENT
END:VCALENDAR