BEGIN:VCALENDAR
VERSION:2.0
PRODID:-//Workforce Solutions Cameron - ECPv6.2.6//NONSGML v1.0//EN
CALSCALE:GREGORIAN
METHOD:PUBLISH
X-ORIGINAL-URL:https://www.wfscameron.org
X-WR-CALDESC:Events for Workforce Solutions Cameron
REFRESH-INTERVAL;VALUE=DURATION:PT1H
X-Robots-Tag:noindex
X-PUBLISHED-TTL:PT1H
BEGIN:VTIMEZONE
TZID:America/Chicago
BEGIN:DAYLIGHT
TZOFFSETFROM:-0600
TZOFFSETTO:-0500
TZNAME:CDT
DTSTART:20220313T080000
END:DAYLIGHT
BEGIN:STANDARD
TZOFFSETFROM:-0500
TZOFFSETTO:-0600
TZNAME:CST
DTSTART:20221106T070000
END:STANDARD
END:VTIMEZONE
BEGIN:VEVENT
DTSTART;TZID=America/Chicago:20220307T130000
DTEND;TZID=America/Chicago:20220307T160000
DTSTAMP:20260424T140338
CREATED:20220225T173939Z
LAST-MODIFIED:20220225T173939Z
UID:4621-1646658000-1646668800@www.wfscameron.org
SUMMARY:Southeast Labor Force Hiring Event
DESCRIPTION:Southeast Labor Force is HIRING! \nRight now\, they’re currently seeking: Laborers\, Roofers and Sheet Metal Workers. \nThese positions are currently OUT-OF-STATE but transportation/housing assistance is provided! \nThey’ll be hosting a hiring event at our Brownsville Office (851 Old Alice Rd.) on Monday March 7th\, from 1pm – 4pm. \nSee you here! \n#JobsNow
URL:https://www.wfscameron.org/event/southeast-labor-force-hiring-event/
LOCATION:Brownsville Workforce Center\, 851 Old Alice Rd\, Brownsville\, TX\, 78520\, United States
ATTACH;FMTTYPE=image/png:https://www.wfscameron.org/wp-content/uploads/2022/02/Southeast-Labor-Force-Hiring-Event-March-2022.png
END:VEVENT
END:VCALENDAR