BEGIN:VCALENDAR
VERSION:2.0
PRODID:-//Workforce Solutions Cameron - ECPv6.2.6//NONSGML v1.0//EN
CALSCALE:GREGORIAN
METHOD:PUBLISH
X-WR-CALNAME:Workforce Solutions Cameron
X-ORIGINAL-URL:https://www.wfscameron.org
X-WR-CALDESC:Events for Workforce Solutions Cameron
REFRESH-INTERVAL;VALUE=DURATION:PT1H
X-Robots-Tag:noindex
X-PUBLISHED-TTL:PT1H
BEGIN:VTIMEZONE
TZID:America/Chicago
BEGIN:DAYLIGHT
TZOFFSETFROM:-0600
TZOFFSETTO:-0500
TZNAME:CDT
DTSTART:20220313T080000
END:DAYLIGHT
BEGIN:STANDARD
TZOFFSETFROM:-0500
TZOFFSETTO:-0600
TZNAME:CST
DTSTART:20221106T070000
END:STANDARD
END:VTIMEZONE
BEGIN:VEVENT
DTSTART;TZID=America/Chicago:20220322T090000
DTEND;TZID=America/Chicago:20220322T120000
DTSTAMP:20260424T123915
CREATED:20220308T180313Z
LAST-MODIFIED:20220308T180313Z
UID:4635-1647939600-1647950400@www.wfscameron.org
SUMMARY:Tradecon Hiring Event
DESCRIPTION:Tradecon is HIRING! \nThey are currently seeking: Recruiter\, Sales Person\, Meat Packer\, General Labor/Firewatch and a Tank Cleaner. \nInterested? \nDon’t miss their upcoming hiring event scheduled for Tuesday\, March 22nd at our Harlingen Workforce Office (1812 W. Jefferson Ave.) \nPositions available locally\, statewide and in South Carolina. Per Diem available for positions out-of-state. \nSee you here! \n#JobsNow
URL:https://www.wfscameron.org/event/tradecon-hiring-event/
LOCATION:West Jefferson Harlingen Office\, 1820 W. Jefferson Ave.\, Harlingen\, TX\, 78550\, United States
ATTACH;FMTTYPE=image/png:https://www.wfscameron.org/wp-content/uploads/2022/03/Tradecon-Hiring-Event-March-2022.png
END:VEVENT
END:VCALENDAR