BEGIN:VCALENDAR
VERSION:2.0
PRODID:-//Workforce Solutions Cameron - ECPv6.2.6//NONSGML v1.0//EN
CALSCALE:GREGORIAN
METHOD:PUBLISH
X-ORIGINAL-URL:https://www.wfscameron.org
X-WR-CALDESC:Events for Workforce Solutions Cameron
REFRESH-INTERVAL;VALUE=DURATION:PT1H
X-Robots-Tag:noindex
X-PUBLISHED-TTL:PT1H
BEGIN:VTIMEZONE
TZID:America/Chicago
BEGIN:DAYLIGHT
TZOFFSETFROM:-0600
TZOFFSETTO:-0500
TZNAME:CDT
DTSTART:20220313T080000
END:DAYLIGHT
BEGIN:STANDARD
TZOFFSETFROM:-0500
TZOFFSETTO:-0600
TZNAME:CST
DTSTART:20221106T070000
END:STANDARD
END:VTIMEZONE
BEGIN:VEVENT
DTSTART;VALUE=DATE:20220328
DTEND;VALUE=DATE:20220329
DTSTAMP:20260424T110719
CREATED:20220316T202545Z
LAST-MODIFIED:20220316T202545Z
UID:4659-1648425600-1648511999@www.wfscameron.org
SUMMARY:*VETERANS ONLY* Tropical Texas Behavioral Health Hiring Event
DESCRIPTION:*ATTENTION VETERANS* \nTropical Texas Behavioral Health is HIRING! \nThis event is for Veterans ONLY. \nThey’ll be hosting two hiring events on Monday\, March 28th. One will be in Brownsville\, the other in Harlingen. \nCheck out the attached flyer for more information. \nWant to read more on the positions? Search the JP# 15170549 onto workintexas.com. \n#JobsNow
URL:https://www.wfscameron.org/event/veterans-only-tropical-texas-behavioral-health-hiring-event/
LOCATION:TX
ATTACH;FMTTYPE=image/png:https://www.wfscameron.org/wp-content/uploads/2022/03/Veterans-WF-Cameron-3.28.22.png
END:VEVENT
END:VCALENDAR