BEGIN:VCALENDAR
VERSION:2.0
PRODID:-//Workforce Solutions Cameron - ECPv6.2.6//NONSGML v1.0//EN
CALSCALE:GREGORIAN
METHOD:PUBLISH
X-ORIGINAL-URL:https://www.wfscameron.org
X-WR-CALDESC:Events for Workforce Solutions Cameron
REFRESH-INTERVAL;VALUE=DURATION:PT1H
X-Robots-Tag:noindex
X-PUBLISHED-TTL:PT1H
BEGIN:VTIMEZONE
TZID:America/Chicago
BEGIN:DAYLIGHT
TZOFFSETFROM:-0600
TZOFFSETTO:-0500
TZNAME:CDT
DTSTART:20220313T080000
END:DAYLIGHT
BEGIN:STANDARD
TZOFFSETFROM:-0500
TZOFFSETTO:-0600
TZNAME:CST
DTSTART:20221106T070000
END:STANDARD
END:VTIMEZONE
BEGIN:VEVENT
DTSTART;TZID=America/Chicago:20221013T090000
DTEND;TZID=America/Chicago:20221013T120000
DTSTAMP:20260424T013315
CREATED:20210824T152431Z
LAST-MODIFIED:20210824T152431Z
UID:4439-1665651600-1665662400@www.wfscameron.org
SUMMARY:[VIRTUAL] Soft Skills Workshop
DESCRIPTION:Our Soft Skills workshops target workers of all ages and industries to set them up for success on the job.\nUpon completion of the virtual workshop\, participants get a certificate endorsed by Workforce Solutions Cameron!\nTopics include:\n– Goal Setting & Teamwork\n– Positive Attitude\n– Taking Initiative\n– Communication Skills\, and more\nJOIN HERE AT 9AM: https://us02web.zoom.us/j/83151883458
URL:https://www.wfscameron.org/event/virtual-soft-skills-workshop-2-2022-10-13/
LOCATION:TX
ATTACH;FMTTYPE=image/jpeg:https://www.wfscameron.org/wp-content/uploads/2021/07/Soft-Skills-Photo.jpg
END:VEVENT
END:VCALENDAR