BEGIN:VCALENDAR
VERSION:2.0
PRODID:-//Workforce Solutions Cameron - ECPv6.2.6//NONSGML v1.0//EN
CALSCALE:GREGORIAN
METHOD:PUBLISH
X-ORIGINAL-URL:https://www.wfscameron.org
X-WR-CALDESC:Events for Workforce Solutions Cameron
REFRESH-INTERVAL;VALUE=DURATION:PT1H
X-Robots-Tag:noindex
X-PUBLISHED-TTL:PT1H
BEGIN:VTIMEZONE
TZID:America/Chicago
BEGIN:DAYLIGHT
TZOFFSETFROM:-0600
TZOFFSETTO:-0500
TZNAME:CDT
DTSTART:20230312T080000
END:DAYLIGHT
BEGIN:STANDARD
TZOFFSETFROM:-0500
TZOFFSETTO:-0600
TZNAME:CST
DTSTART:20231105T070000
END:STANDARD
END:VTIMEZONE
BEGIN:VEVENT
DTSTART;TZID=America/Chicago:20230215T130000
DTEND;TZID=America/Chicago:20230215T160000
DTSTAMP:20260423T225450
CREATED:20210913T135255Z
LAST-MODIFIED:20210913T135255Z
UID:4492-1676466000-1676476800@www.wfscameron.org
SUMMARY:[IN-PERSON] Job Readiness Workshop
DESCRIPTION:Our Job Readiness workshops prepare jobseekers of all ages and walks of life to successfully seek and obtain employment.\nUpon completion of the workshop\, participants get a certificate endorsed by Workforce Solutions Cameron.\nTopics include:\n\n– Job Search Tools\n– Resume Writing\n– Interviewing Principles\n\n– Financial Literacy\n\nHAPPENING SIMULTANEOUSLY IN BOTH HARLINGEN AND BROWNSVILLE!\nHarlingen: 1812 W. Jefferson\, Harlingen\, TX. 78550 \nBrownsville: 5636 Southmost Road Brownsville\, TX. 78521 \n \n\n 
URL:https://www.wfscameron.org/event/in-person-job-readiness-workshop-2023-02-15/
LOCATION:TX
ATTACH;FMTTYPE=image/png:https://www.wfscameron.org/wp-content/uploads/2021/07/Job-Readiness-Photo.png
END:VEVENT
END:VCALENDAR