BEGIN:VCALENDAR
VERSION:2.0
PRODID:-//Workforce Solutions Cameron - ECPv6.2.6//NONSGML v1.0//EN
CALSCALE:GREGORIAN
METHOD:PUBLISH
X-ORIGINAL-URL:https://www.wfscameron.org
X-WR-CALDESC:Events for Workforce Solutions Cameron
REFRESH-INTERVAL;VALUE=DURATION:PT1H
X-Robots-Tag:noindex
X-PUBLISHED-TTL:PT1H
BEGIN:VTIMEZONE
TZID:America/Chicago
BEGIN:DAYLIGHT
TZOFFSETFROM:-0600
TZOFFSETTO:-0500
TZNAME:CDT
DTSTART:20230312T080000
END:DAYLIGHT
BEGIN:STANDARD
TZOFFSETFROM:-0500
TZOFFSETTO:-0600
TZNAME:CST
DTSTART:20231105T070000
END:STANDARD
END:VTIMEZONE
BEGIN:VEVENT
DTSTART;VALUE=DATE:20230401
DTEND;VALUE=DATE:20230501
DTSTAMP:20260423T173649
CREATED:20230323T211425Z
LAST-MODIFIED:20230413T193442Z
UID:5595-1680307200-1682899199@www.wfscameron.org
SUMMARY:Mobile Lab Calendar - April 2023
DESCRIPTION:OUR MOBILE LAB IS BACK!\n\n\nCan’t make it to one of our offices? The mobile lab could be coming to YOU!\n\n\nCheck out our calendar for April 2023.\n\n\nThe Mobile Resource Lab is a Workforce Center on wheels! It is equipped with 12 computers and travels all around Cameron County! Some of the services the mobile provides are: Job Search Assistance\, Resume creation & enhancement\, MANGO language learning program\, MAVIS BEACON typing/keyboarding program\, On-site interviewing space and Internet Access!\n\n\nAlso\, the Mobile Lab is ADA Accessible!\n\n\n*To ensure a safe environment\, we are only using 5 computers at a time.\n\n\nSee you soon!
URL:https://www.wfscameron.org/event/mobile-lab-calendar-april-2023/
LOCATION:TX
ATTACH;FMTTYPE=image/png:https://www.wfscameron.org/wp-content/uploads/2023/03/Mobile-Lab-Calendar-April-2023-1.png
END:VEVENT
BEGIN:VEVENT
DTSTART;TZID=America/Chicago:20230413T090000
DTEND;TZID=America/Chicago:20230413T120000
DTSTAMP:20260423T173649
CREATED:20210824T152431Z
LAST-MODIFIED:20210824T152431Z
UID:4445-1681376400-1681387200@www.wfscameron.org
SUMMARY:[VIRTUAL] Soft Skills Workshop
DESCRIPTION:Our Soft Skills workshops target workers of all ages and industries to set them up for success on the job.\nUpon completion of the virtual workshop\, participants get a certificate endorsed by Workforce Solutions Cameron!\nTopics include:\n– Goal Setting & Teamwork\n– Positive Attitude\n– Taking Initiative\n– Communication Skills\, and more\nJOIN HERE AT 9AM: https://us02web.zoom.us/j/83151883458
URL:https://www.wfscameron.org/event/virtual-soft-skills-workshop-2-2023-04-13/
LOCATION:TX
ATTACH;FMTTYPE=image/jpeg:https://www.wfscameron.org/wp-content/uploads/2021/07/Soft-Skills-Photo.jpg
END:VEVENT
END:VCALENDAR