BEGIN:VCALENDAR
VERSION:2.0
PRODID:-//Workforce Solutions Cameron - ECPv6.2.6//NONSGML v1.0//EN
CALSCALE:GREGORIAN
METHOD:PUBLISH
X-WR-CALNAME:Workforce Solutions Cameron
X-ORIGINAL-URL:https://www.wfscameron.org
X-WR-CALDESC:Events for Workforce Solutions Cameron
REFRESH-INTERVAL;VALUE=DURATION:PT1H
X-Robots-Tag:noindex
X-PUBLISHED-TTL:PT1H
BEGIN:VTIMEZONE
TZID:America/Chicago
BEGIN:DAYLIGHT
TZOFFSETFROM:-0600
TZOFFSETTO:-0500
TZNAME:CDT
DTSTART:20230312T080000
END:DAYLIGHT
BEGIN:STANDARD
TZOFFSETFROM:-0500
TZOFFSETTO:-0600
TZNAME:CST
DTSTART:20231105T070000
END:STANDARD
END:VTIMEZONE
BEGIN:VEVENT
DTSTART;VALUE=DATE:20230801
DTEND;VALUE=DATE:20230901
DTSTAMP:20260423T115543
CREATED:20230804T183240Z
LAST-MODIFIED:20230810T141805Z
UID:6067-1690848000-1693526399@www.wfscameron.org
SUMMARY:Mobile Lab Calendar - August 2023
DESCRIPTION:OUR MOBILE LAB IS BACK!\n\n\nCan’t make it to one of our offices? The mobile lab could be coming to YOU!\n\n\nCheck out our calendar for August 2023.\n\n\nThe Mobile Resource Lab is a Workforce Center on wheels! It is equipped with 12 computers and travels all around Cameron County! Some of the services the mobile provides are: Job Search Assistance\, Resume creation & enhancement\, MANGO language learning program\, MAVIS BEACON typing/keyboarding program\, On-site interviewing space and Internet Access!\n\n\nAlso\, the Mobile Lab is ADA Accessible!\n\n\n*To ensure a safe environment\, we are only using 5 computers at a time.\n\n\nSee you soon!
URL:https://www.wfscameron.org/event/mobile-lab-calendar-august-2023/
LOCATION:TX
ATTACH;FMTTYPE=image/jpeg:https://www.wfscameron.org/wp-content/uploads/2023/08/Mobile-Lab-Calendar-August-2023.jpg
END:VEVENT
BEGIN:VEVENT
DTSTART;TZID=America/Chicago:20230802T140000
DTEND;TZID=America/Chicago:20230802T160000
DTSTAMP:20260423T115543
CREATED:20230719T211556Z
LAST-MODIFIED:20230719T211556Z
UID:6029-1690984800-1690992000@www.wfscameron.org
SUMMARY:Virtual Reality (VR) Career Fair
DESCRIPTION:Are you ready to explore your future career? \n\n\n\nDon’t miss out on our Virtual Reality (VR) Career Fair happening from 2pm – 4pm on Wednesday\, August 2nd at the Brownsville Public Library (Main Branch) located at 2600 Central Blvd\, Brownsville\, TX 78520.\n\n\n\nTackle the virtual world with our Oculus Virtual Reality (VR) headsets (13+) and afterwards speak directly with industry experts! \n\n\n\nDon’t let the opportunity to hear valuable insights\, relatable stories and build connections pass you by! We’ll see you there! \n\n\n\n#SEEDSVR
URL:https://www.wfscameron.org/event/virtual-reality-vr-career-fair/
LOCATION:TX
ATTACH;FMTTYPE=image/png:https://www.wfscameron.org/wp-content/uploads/2023/07/Virtual-Reality-Career-Fair-8.2.23.png
END:VEVENT
END:VCALENDAR