BEGIN:VCALENDAR
VERSION:2.0
PRODID:-//Workforce Solutions Cameron - ECPv6.2.6//NONSGML v1.0//EN
CALSCALE:GREGORIAN
METHOD:PUBLISH
X-WR-CALNAME:Workforce Solutions Cameron
X-ORIGINAL-URL:https://www.wfscameron.org
X-WR-CALDESC:Events for Workforce Solutions Cameron
REFRESH-INTERVAL;VALUE=DURATION:PT1H
X-Robots-Tag:noindex
X-PUBLISHED-TTL:PT1H
BEGIN:VTIMEZONE
TZID:America/Chicago
BEGIN:DAYLIGHT
TZOFFSETFROM:-0600
TZOFFSETTO:-0500
TZNAME:CDT
DTSTART:20230312T080000
END:DAYLIGHT
BEGIN:STANDARD
TZOFFSETFROM:-0500
TZOFFSETTO:-0600
TZNAME:CST
DTSTART:20231105T070000
END:STANDARD
END:VTIMEZONE
BEGIN:VEVENT
DTSTART;VALUE=DATE:20230901
DTEND;VALUE=DATE:20231001
DTSTAMP:20260423T101941
CREATED:20230829T150607Z
LAST-MODIFIED:20230829T150607Z
UID:6165-1693526400-1696118399@www.wfscameron.org
SUMMARY:Mobile Lab Calendar - September 2023
DESCRIPTION:OUR MOBILE LAB IS BACK!\n\n\nCan’t make it to one of our offices? The mobile lab could be coming to YOU!\n\n\nCheck out our calendar for September 2023.\n\n\nThe Mobile Resource Lab is a Workforce Center on wheels! It is equipped with 12 computers and travels all around Cameron County! Some of the services the mobile provides are: Job Search Assistance\, Resume creation & enhancement\, MANGO language learning program\, MAVIS BEACON typing/keyboarding program\, On-site interviewing space and Internet Access!\n\n\nAlso\, the Mobile Lab is ADA Accessible!\n\n\n*To ensure a safe environment\, we are only using 5 computers at a time.\n\n\nSee you soon!
URL:https://www.wfscameron.org/event/mobile-lab-calendar-september-2023/
LOCATION:TX
ATTACH;FMTTYPE=image/png:https://www.wfscameron.org/wp-content/uploads/2023/08/Mobile-Lab-Calendar-September-2023.png
END:VEVENT
BEGIN:VEVENT
DTSTART;TZID=America/Chicago:20230908T080000
DTEND;TZID=America/Chicago:20230908T150000
DTSTAMP:20260423T101941
CREATED:20230829T142747Z
LAST-MODIFIED:20230829T142747Z
UID:6162-1694160000-1694185200@www.wfscameron.org
SUMMARY:Bechtel Hiring Event
DESCRIPTION:Have you heard? \nBechtel is hiring and currently has over a hundred vacancies! \nThey’re currently seeking: Laborer\, Dirt Operator Journeyman and Labored Skill (Direct Craft Support). \nDon’t miss their upcoming hiring event scheduled for Friday\, September 8th from 8am – 3pm. \nThe event will be held at our Workforce Solutions Cameron office in Brownsville (851 Old Alice Rd.) \nSee you there!
URL:https://www.wfscameron.org/event/bechtel-hiring-event/
LOCATION:Brownsville Workforce Center\, 851 Old Alice Rd\, Brownsville\, TX\, 78520\, United States
ATTACH;FMTTYPE=image/png:https://www.wfscameron.org/wp-content/uploads/2023/08/Bechtel-Hiring-Event-9.8.23.png
END:VEVENT
END:VCALENDAR