BEGIN:VCALENDAR
VERSION:2.0
PRODID:-//Workforce Solutions Cameron - ECPv6.2.6//NONSGML v1.0//EN
CALSCALE:GREGORIAN
METHOD:PUBLISH
X-ORIGINAL-URL:https://www.wfscameron.org
X-WR-CALDESC:Events for Workforce Solutions Cameron
REFRESH-INTERVAL;VALUE=DURATION:PT1H
X-Robots-Tag:noindex
X-PUBLISHED-TTL:PT1H
BEGIN:VTIMEZONE
TZID:America/Chicago
BEGIN:DAYLIGHT
TZOFFSETFROM:-0600
TZOFFSETTO:-0500
TZNAME:CDT
DTSTART:20250309T080000
END:DAYLIGHT
BEGIN:STANDARD
TZOFFSETFROM:-0500
TZOFFSETTO:-0600
TZNAME:CST
DTSTART:20251102T070000
END:STANDARD
END:VTIMEZONE
BEGIN:VEVENT
DTSTART;VALUE=DATE:20250101
DTEND;VALUE=DATE:20250201
DTSTAMP:20260424T191523
CREATED:20241218T182042Z
LAST-MODIFIED:20241218T182042Z
UID:7573-1735689600-1738367999@www.wfscameron.org
SUMMARY:Mobile Lab Calendar - January 2025
DESCRIPTION:OUR MOBILE LAB IS BACK!\n\n\nCan’t make it to one of our offices? The mobile lab could be coming to YOU!\n\n\nCheck out our calendar for January 2025.\n\n\nThe Mobile Resource Lab is a Workforce Center on wheels! It is equipped with 12 computers and travels all around Cameron County! Some of the services the mobile provides are: Job Search Assistance\, Resume creation & enhancement\, MAVIS BEACON typing/keyboarding program\, On-site interviewing space and Internet Access!\n\n\nAlso\, the Mobile Lab is ADA Accessible!\n\n\n*To ensure a safe environment\, we are only using 5 computers at a time.\n\n\nSee you soon!
URL:https://www.wfscameron.org/event/mobile-lab-calendar-january-2025/
LOCATION:TX
ATTACH;FMTTYPE=image/png:https://www.wfscameron.org/wp-content/uploads/2024/12/Mobile-Lab-Calendar-January-2025.png
END:VEVENT
BEGIN:VEVENT
DTSTART;TZID=America/Chicago:20250117T090000
DTEND;TZID=America/Chicago:20250117T140000
DTSTAMP:20260424T191523
CREATED:20241218T164007Z
LAST-MODIFIED:20241218T171919Z
UID:7561-1737104400-1737122400@www.wfscameron.org
SUMMARY:New Horizon Health Center Hiring Event
DESCRIPTION:New Horizon Health Center is HIRING!\n\n\nDon’t miss our hiring event on Friday\, January 17th from 9am – 2pm at our Brownsville workforce office (851 Old Alice Rd).\n\nPositions available include: Medical Office Specialist\, Patient Care Assistant\, Health Information Management Specialist\, Medical Laboratory Technician\, Outreach Community Worker\, Registered Dental Assistant\, Dietician\, Lifestyle Coach\, Housekeeping Attendant\, Certified Medical Assistant and HR Generalist.\n\nFor more information on each position\, enter JP #16800787 into workintexas.com\n\nSee you then!
URL:https://www.wfscameron.org/event/new-horizon-health-center-hiring-event/
LOCATION:TX
ATTACH;FMTTYPE=image/png:https://www.wfscameron.org/wp-content/uploads/2024/12/New-Horizon-Health-Center-Hiring-Event-2025.png
END:VEVENT
END:VCALENDAR