BEGIN:VCALENDAR
VERSION:2.0
PRODID:-//Workforce Solutions Cameron - ECPv6.2.6//NONSGML v1.0//EN
CALSCALE:GREGORIAN
METHOD:PUBLISH
X-WR-CALNAME:Workforce Solutions Cameron
X-ORIGINAL-URL:https://www.wfscameron.org
X-WR-CALDESC:Events for Workforce Solutions Cameron
REFRESH-INTERVAL;VALUE=DURATION:PT1H
X-Robots-Tag:noindex
X-PUBLISHED-TTL:PT1H
BEGIN:VTIMEZONE
TZID:America/Chicago
BEGIN:DAYLIGHT
TZOFFSETFROM:-0600
TZOFFSETTO:-0500
TZNAME:CDT
DTSTART:20250309T080000
END:DAYLIGHT
BEGIN:STANDARD
TZOFFSETFROM:-0500
TZOFFSETTO:-0600
TZNAME:CST
DTSTART:20251102T070000
END:STANDARD
END:VTIMEZONE
BEGIN:VEVENT
DTSTART;VALUE=DATE:20250301
DTEND;VALUE=DATE:20250401
DTSTAMP:20260424T134354
CREATED:20250227T212302Z
LAST-MODIFIED:20250227T212302Z
UID:8159-1740787200-1743465599@www.wfscameron.org
SUMMARY:Mobile Lab Calendar - March 2025
DESCRIPTION:OUR MOBILE LAB IS BACK!\n\n\nCan’t make it to one of our offices? The mobile lab could be coming to YOU!\n\n\nCheck out our calendar for March 2025.\n\n\nThe Mobile Resource Lab is a Workforce Center on wheels! It is equipped with 12 computers and travels all around Cameron County! Some of the services the mobile provides are: Job Search Assistance\, Resume creation & enhancement\, MAVIS BEACON typing/keyboarding program\, On-site interviewing space and Internet Access!\n\n\nAlso\, the Mobile Lab is ADA Accessible!\n\n\n*To ensure a safe environment\, we are only using 5 computers at a time.\n\n\nSee you soon!
URL:https://www.wfscameron.org/event/mobile-lab-calendar-march-2025/
LOCATION:TX
ATTACH;FMTTYPE=image/png:https://www.wfscameron.org/wp-content/uploads/2025/02/Mobile-Lab-Calendar-March-2025.png
END:VEVENT
BEGIN:VEVENT
DTSTART;TZID=America/Chicago:20250305T083000
DTEND;TZID=America/Chicago:20250305T153000
DTSTAMP:20260424T134354
CREATED:20250218T225750Z
LAST-MODIFIED:20250218T225852Z
UID:8120-1741163400-1741188600@www.wfscameron.org
SUMMARY:Qualfon Hiring Event
DESCRIPTION:Qualfon is hiring Call Center Professionals!\n\nDon’t miss their upcoming hiring event taking place on Wednesday\, March 5th from 8:30am – 3:30pm at our Harlingen Workforce office (1820 W. Jefferson Ave).\n\n\nWant to know more regarding the position? Search JP #16825084 into workintexas.com for more details!\n\nSee you then!
URL:https://www.wfscameron.org/event/qualfon-hiring-event/
LOCATION:West Jefferson Harlingen Office\, 1820 W. Jefferson Ave.\, Harlingen\, TX\, 78550\, United States
ATTACH;FMTTYPE=image/png:https://www.wfscameron.org/wp-content/uploads/2025/02/Qualfon-Hiring-Event-3.5.25.png
END:VEVENT
BEGIN:VEVENT
DTSTART;TZID=America/Chicago:20250305T093000
DTEND;TZID=America/Chicago:20250305T103000
DTSTAMP:20260424T134354
CREATED:20250102T163006Z
LAST-MODIFIED:20250102T163006Z
UID:7867-1741167000-1741170600@www.wfscameron.org
SUMMARY:WIOA Wednesday Orientation
DESCRIPTION:Need help paying for school?\n\nWant an in-demand career?\n\nInterested in gaining work experience?\n\nWE GOT YOU!\n\nOur WIOA Orientations are back!\nAttend an orientation happening every Wednesday from 9:30 AM to 10:30 AM at our Brownsville (851 Old Alice Rd.) and Harlingen (1820 W. Jefferson Ave.) Workforce offices!\nTalk to career coaches who are excited to help you begin your next career!\n\n~~~~~~\n¿Necesita ayuda para pagar la escuela?\n\n¿Quieres una carrera en demanda?\n\n¿Interesado en adquirir experiencia laboral?\n\n¡Te Ayudaremos!\n\n¡Nuestras orientaciones WIOA están de regreso!\n¡Asista a una orientación que se lleva a cabo todos los miércoles de 9:30 am a 10:30 am en nuestras oficinas de Brownsville (851 Old Alice Rd.) y Harlingen (1820 W. Jefferson Ave.) Workforce!\n¡Hable con entrenadores de carrera que están emocionados de ayudarlo a comenzar su próxima carrera!
URL:https://www.wfscameron.org/event/wioa-wednesday-orientation-57/
LOCATION:TX
END:VEVENT
BEGIN:VEVENT
DTSTART;TZID=America/Chicago:20250305T130000
DTEND;TZID=America/Chicago:20250305T160000
DTSTAMP:20260424T134354
CREATED:20250128T173235Z
LAST-MODIFIED:20250128T173235Z
UID:8059-1741179600-1741190400@www.wfscameron.org
SUMMARY:Church's Hiring Event
DESCRIPTION:Don’t miss Church’s upcoming hiring event!\n\n\nThey’re currently seeking: Cooks\, Guest Service Team Members\, Shift Leaders and Assistant Managers!\n\nWe’ll see you on Wednesday March 5th from 1pm – 4pm at our Brownsville office (851 Old Alice Road).
URL:https://www.wfscameron.org/event/churchs-hiring-event-2/
LOCATION:Brownsville Workforce Center\, 851 Old Alice Rd\, Brownsville\, TX\, 78520\, United States
ATTACH;FMTTYPE=image/png:https://www.wfscameron.org/wp-content/uploads/2025/01/Churchs-Hiring-Event-3.5.25.png
END:VEVENT
END:VCALENDAR