BEGIN:VCALENDAR
VERSION:2.0
PRODID:-//Workforce Solutions Cameron - ECPv6.2.6//NONSGML v1.0//EN
CALSCALE:GREGORIAN
METHOD:PUBLISH
X-ORIGINAL-URL:https://www.wfscameron.org
X-WR-CALDESC:Events for Workforce Solutions Cameron
REFRESH-INTERVAL;VALUE=DURATION:PT1H
X-Robots-Tag:noindex
X-PUBLISHED-TTL:PT1H
BEGIN:VTIMEZONE
TZID:America/Chicago
BEGIN:DAYLIGHT
TZOFFSETFROM:-0600
TZOFFSETTO:-0500
TZNAME:CDT
DTSTART:20250309T080000
END:DAYLIGHT
BEGIN:STANDARD
TZOFFSETFROM:-0500
TZOFFSETTO:-0600
TZNAME:CST
DTSTART:20251102T070000
END:STANDARD
END:VTIMEZONE
BEGIN:VEVENT
DTSTART;VALUE=DATE:20250401
DTEND;VALUE=DATE:20250501
DTSTAMP:20260422T040950
CREATED:20250416T204635Z
LAST-MODIFIED:20250416T204635Z
UID:8287-1743465600-1746057599@www.wfscameron.org
SUMMARY:Mobile Lab Calendar - April 2025
DESCRIPTION:OUR MOBILE LAB IS BACK!\n\n\nCan’t make it to one of our offices? The mobile lab could be coming to YOU!\n\n\nCheck out our calendar for April 2025.\n\n\nThe Mobile Resource Lab is a Workforce Center on wheels! It is equipped with 12 computers and travels all around Cameron County! Some of the services the mobile provides are: Job Search Assistance\, Resume creation & enhancement\, MAVIS BEACON typing/keyboarding program\, On-site interviewing space and Internet Access!\n\n\nAlso\, the Mobile Lab is ADA Accessible!\n\n\n*To ensure a safe environment\, we are only using 5 computers at a time.\n\n\nSee you soon!
URL:https://www.wfscameron.org/event/mobile-lab-calendar-april-2025/
LOCATION:TX
ATTACH;FMTTYPE=image/png:https://www.wfscameron.org/wp-content/uploads/2025/04/Mobile-Lab-Calendar-April-2025.png
END:VEVENT
BEGIN:VEVENT
DTSTART;TZID=America/Chicago:20250409T090000
DTEND;TZID=America/Chicago:20250409T150000
DTSTAMP:20260422T040950
CREATED:20250325T134746Z
LAST-MODIFIED:20250325T134746Z
UID:8227-1744189200-1744210800@www.wfscameron.org
SUMMARY:Penn Aluminum International LLC Hiring Event
DESCRIPTION:Ready to kick-start your career in manufacturing? Penn Aluminum International LLC is looking for Machine Operators\, and they want YOU to be part of their growing team! \n📅 Date: April 9th \n⏰ Time: 9am – 3pm \n📍 Location: 1820 W. Jefferson Ave.\, Harlingen\, TX. 78550
URL:https://www.wfscameron.org/event/penn-aluminum-international-llc-hiring-event/
LOCATION:West Jefferson Harlingen Office\, 1820 W. Jefferson Ave.\, Harlingen\, TX\, 78550\, United States
CATEGORIES:Hiring Events
ATTACH;FMTTYPE=image/png:https://www.wfscameron.org/wp-content/uploads/2025/03/Penn-Aluminum-International-LLC-hiring-event-1.png
END:VEVENT
BEGIN:VEVENT
DTSTART;TZID=America/Chicago:20250409T093000
DTEND;TZID=America/Chicago:20250409T103000
DTSTAMP:20260422T040950
CREATED:20250102T164317Z
LAST-MODIFIED:20250102T164317Z
UID:7877-1744191000-1744194600@www.wfscameron.org
SUMMARY:WIOA Wednesday Orientation
DESCRIPTION:Need help paying for school?\n\nWant an in-demand career?\n\nInterested in gaining work experience?\n\nWE GOT YOU!\n\nOur WIOA Orientations are back!\nAttend an orientation happening every Wednesday from 9:30 AM to 10:30 AM at our Brownsville (851 Old Alice Rd.) and Harlingen (1820 W. Jefferson Ave.) Workforce offices!\nTalk to career coaches who are excited to help you begin your next career!\n\n~~~~~~\n¿Necesita ayuda para pagar la escuela?\n\n¿Quieres una carrera en demanda?\n\n¿Interesado en adquirir experiencia laboral?\n\n¡Te Ayudaremos!\n\n¡Nuestras orientaciones WIOA están de regreso!\n¡Asista a una orientación que se lleva a cabo todos los miércoles de 9:30 am a 10:30 am en nuestras oficinas de Brownsville (851 Old Alice Rd.) y Harlingen (1820 W. Jefferson Ave.) Workforce!\n¡Hable con entrenadores de carrera que están emocionados de ayudarlo a comenzar su próxima carrera!
URL:https://www.wfscameron.org/event/wioa-wednesday-orientation-62/
LOCATION:TX
END:VEVENT
END:VCALENDAR