BEGIN:VCALENDAR
VERSION:2.0
PRODID:-//Workforce Solutions Cameron - ECPv6.2.6//NONSGML v1.0//EN
CALSCALE:GREGORIAN
METHOD:PUBLISH
X-WR-CALNAME:Workforce Solutions Cameron
X-ORIGINAL-URL:https://www.wfscameron.org
X-WR-CALDESC:Events for Workforce Solutions Cameron
REFRESH-INTERVAL;VALUE=DURATION:PT1H
X-Robots-Tag:noindex
X-PUBLISHED-TTL:PT1H
BEGIN:VTIMEZONE
TZID:America/Chicago
BEGIN:DAYLIGHT
TZOFFSETFROM:-0600
TZOFFSETTO:-0500
TZNAME:CDT
DTSTART:20250309T080000
END:DAYLIGHT
BEGIN:STANDARD
TZOFFSETFROM:-0500
TZOFFSETTO:-0600
TZNAME:CST
DTSTART:20251102T070000
END:STANDARD
END:VTIMEZONE
BEGIN:VEVENT
DTSTART;TZID=America/Chicago:20250508T090000
DTEND;TZID=America/Chicago:20250508T120000
DTSTAMP:20260422T011146
CREATED:20241220T171533Z
LAST-MODIFIED:20241220T171533Z
UID:7652-1746694800-1746705600@www.wfscameron.org
SUMMARY:[BROWNSVILLE] Soft Skills Workshop
DESCRIPTION:Our Soft Skills workshops target workers of all ages and industries to set them up for success on the job. Upon completion of the workshop\, participants get a certificate endorsed by Workforce Solutions Cameron! Topics include: – Goal Setting & Teamwork – Positive Attitude – Taking Initiative – Communication Skills\, and more
URL:https://www.wfscameron.org/event/brownsville-soft-skills-workshop-38/
LOCATION:Brownsville Workforce Center\, 851 Old Alice Rd\, Brownsville\, TX\, 78520\, United States
END:VEVENT
END:VCALENDAR