BEGIN:VCALENDAR
VERSION:2.0
PRODID:-//Workforce Solutions Cameron - ECPv6.2.6//NONSGML v1.0//EN
CALSCALE:GREGORIAN
METHOD:PUBLISH
X-WR-CALNAME:Workforce Solutions Cameron
X-ORIGINAL-URL:https://www.wfscameron.org
X-WR-CALDESC:Events for Workforce Solutions Cameron
REFRESH-INTERVAL;VALUE=DURATION:PT1H
X-Robots-Tag:noindex
X-PUBLISHED-TTL:PT1H
BEGIN:VTIMEZONE
TZID:America/Chicago
BEGIN:DAYLIGHT
TZOFFSETFROM:-0600
TZOFFSETTO:-0500
TZNAME:CDT
DTSTART:20250309T080000
END:DAYLIGHT
BEGIN:STANDARD
TZOFFSETFROM:-0500
TZOFFSETTO:-0600
TZNAME:CST
DTSTART:20251102T070000
END:STANDARD
END:VTIMEZONE
BEGIN:VEVENT
DTSTART;VALUE=DATE:20250601
DTEND;VALUE=DATE:20250701
DTSTAMP:20260422T024021
CREATED:20250616T171833Z
LAST-MODIFIED:20250616T171833Z
UID:8382-1748736000-1751327999@www.wfscameron.org
SUMMARY:Mobile Lab Calendar - June 2025
DESCRIPTION:OUR MOBILE LAB IS BACK!\n\n\nCan’t make it to one of our offices? The mobile lab could be coming to YOU!\n\n\nCheck out our calendar for June 2025.\n\n\nThe Mobile Resource Lab is a Workforce Center on wheels! It is equipped with 12 computers and travels all around Cameron County! Some of the services the mobile provides are: Job Search Assistance\, Resume creation & enhancement\, MAVIS BEACON typing/keyboarding program\, On-site interviewing space and Internet Access!\n\n\nAlso\, the Mobile Lab is ADA Accessible!\n\n\n*To ensure a safe environment\, we are only using 5 computers at a time.\n\n\nSee you soon!
URL:https://www.wfscameron.org/event/mobile-lab-calendar-june-2025/
LOCATION:TX
ATTACH;FMTTYPE=image/png:https://www.wfscameron.org/wp-content/uploads/2025/06/Mobile-Lab-Calendar-June-2025.png
END:VEVENT
BEGIN:VEVENT
DTSTART;TZID=America/Chicago:20250613T110000
DTEND;TZID=America/Chicago:20250613T140000
DTSTAMP:20260422T024021
CREATED:20250602T162923Z
LAST-MODIFIED:20250602T162923Z
UID:8354-1749812400-1749823200@www.wfscameron.org
SUMMARY:TownePlace Suits Hiring Event
DESCRIPTION:Join the TownePlace Suites Marriott Team! 🌟 \nTownePlace Suites is hosting a hiring event and looking for passionate individuals to deliver exceptional hospitality. \n📅 Date: June 13th\n🕒 Time:  11am – 2pm\n📍 Location:  201 Heart Drive\, Brownsville\, TX. 78520 \nApply now and start your journey with us!\n#HiringEvent #WFSCameron
URL:https://www.wfscameron.org/event/towneplace-suits-hiring-event/
LOCATION:TX
CATEGORIES:Hiring Events
ATTACH;FMTTYPE=image/png:https://www.wfscameron.org/wp-content/uploads/2025/06/Towneplace-suits-hiring-event-6.13.25-4.png
END:VEVENT
END:VCALENDAR