BEGIN:VCALENDAR
VERSION:2.0
PRODID:-//Workforce Solutions Cameron - ECPv6.2.6//NONSGML v1.0//EN
CALSCALE:GREGORIAN
METHOD:PUBLISH
X-ORIGINAL-URL:https://www.wfscameron.org
X-WR-CALDESC:Events for Workforce Solutions Cameron
REFRESH-INTERVAL;VALUE=DURATION:PT1H
X-Robots-Tag:noindex
X-PUBLISHED-TTL:PT1H
BEGIN:VTIMEZONE
TZID:America/Chicago
BEGIN:DAYLIGHT
TZOFFSETFROM:-0600
TZOFFSETTO:-0500
TZNAME:CDT
DTSTART:20250309T080000
END:DAYLIGHT
BEGIN:STANDARD
TZOFFSETFROM:-0500
TZOFFSETTO:-0600
TZNAME:CST
DTSTART:20251102T070000
END:STANDARD
END:VTIMEZONE
BEGIN:VEVENT
DTSTART;VALUE=DATE:20251001
DTEND;VALUE=DATE:20251101
DTSTAMP:20260422T090010
CREATED:20250930T213206Z
LAST-MODIFIED:20250930T213206Z
UID:8584-1759276800-1761955199@www.wfscameron.org
SUMMARY:Mobile Lab Calendar - October 2025
DESCRIPTION:OUR MOBILE LAB IS BACK!\n\n\nCan’t make it to one of our offices? The mobile lab could be coming to YOU!\n\n\nCheck out our calendar for October 2025.\n\n\nThe Mobile Resource Lab is a Workforce Center on wheels! It is equipped with 12 computers and travels all around Cameron County! Some of the services the mobile provides are: Job Search Assistance\, Resume creation & enhancement\, MAVIS BEACON typing/keyboarding program\, On-site interviewing space and Internet Access!\n\n\nAlso\, the Mobile Lab is ADA Accessible!\n\n\n*To ensure a safe environment\, we are only using 5 computers at a time.\n\n\nSee you soon!
URL:https://www.wfscameron.org/event/mobile-lab-calendar-october-2025/
LOCATION:TX
ATTACH;FMTTYPE=image/png:https://www.wfscameron.org/wp-content/uploads/2025/09/Mobile-Lab-Calendar-October-2025.png
END:VEVENT
BEGIN:VEVENT
DTSTART;TZID=America/Chicago:20251008T093000
DTEND;TZID=America/Chicago:20251008T103000
DTSTAMP:20260422T090010
CREATED:20250102T204433Z
LAST-MODIFIED:20250102T204433Z
UID:7929-1759915800-1759919400@www.wfscameron.org
SUMMARY:WIOA Wednesday Orientation
DESCRIPTION:Need help paying for school?\n\nWant an in-demand career?\n\nInterested in gaining work experience?\n\nWE GOT YOU!\n\nOur WIOA Orientations are back!\nAttend an orientation happening every Wednesday from 9:30 AM to 10:30 AM at our Brownsville (851 Old Alice Rd.) and Harlingen (1820 W. Jefferson Ave.) Workforce offices!\nTalk to career coaches who are excited to help you begin your next career!\n\n~~~~~~\n¿Necesita ayuda para pagar la escuela?\n\n¿Quieres una carrera en demanda?\n\n¿Interesado en adquirir experiencia laboral?\n\n¡Te Ayudaremos!\n\n¡Nuestras orientaciones WIOA están de regreso!\n¡Asista a una orientación que se lleva a cabo todos los miércoles de 9:30 am a 10:30 am en nuestras oficinas de Brownsville (851 Old Alice Rd.) y Harlingen (1820 W. Jefferson Ave.) Workforce!\n¡Hable con entrenadores de carrera que están emocionados de ayudarlo a comenzar su próxima carrera!
URL:https://www.wfscameron.org/event/wioa-wednesday-orientation-88/
LOCATION:TX
END:VEVENT
BEGIN:VEVENT
DTSTART;TZID=America/Chicago:20251008T100000
DTEND;TZID=America/Chicago:20251008T160000
DTSTAMP:20260422T090010
CREATED:20251002T133122Z
LAST-MODIFIED:20251002T133122Z
UID:8597-1759917600-1759939200@www.wfscameron.org
SUMMARY:Burlington Hiring Event
DESCRIPTION:Burlington is Hiring! \nJoin them at their in-store hiring event next week and discover exciting career opportunities! Burlington has many open positions and offers great benefits for their team members. Don’t miss your chance!\n\n\n Date: October 8th\, 10am – 4pm\n Location: 475 Morrison Road\, Brownsville\, TX. 78520\n\n\nBring your resume and enthusiasm — see you soon!
URL:https://www.wfscameron.org/event/burlington-hiring-event-2/
LOCATION:TX
CATEGORIES:Hiring Events
ATTACH;FMTTYPE=image/png:https://www.wfscameron.org/wp-content/uploads/2025/10/Burlington-Hiring-Event-2.png
END:VEVENT
END:VCALENDAR