BEGIN:VCALENDAR
VERSION:2.0
PRODID:-//Workforce Solutions Cameron - ECPv6.2.6//NONSGML v1.0//EN
CALSCALE:GREGORIAN
METHOD:PUBLISH
X-WR-CALNAME:Workforce Solutions Cameron
X-ORIGINAL-URL:https://www.wfscameron.org
X-WR-CALDESC:Events for Workforce Solutions Cameron
REFRESH-INTERVAL;VALUE=DURATION:PT1H
X-Robots-Tag:noindex
X-PUBLISHED-TTL:PT1H
BEGIN:VTIMEZONE
TZID:America/Chicago
BEGIN:DAYLIGHT
TZOFFSETFROM:-0600
TZOFFSETTO:-0500
TZNAME:CDT
DTSTART:20250309T080000
END:DAYLIGHT
BEGIN:STANDARD
TZOFFSETFROM:-0500
TZOFFSETTO:-0600
TZNAME:CST
DTSTART:20251102T070000
END:STANDARD
END:VTIMEZONE
BEGIN:VEVENT
DTSTART;VALUE=DATE:20251001
DTEND;VALUE=DATE:20251101
DTSTAMP:20260422T090010
CREATED:20250930T213206Z
LAST-MODIFIED:20250930T213206Z
UID:8584-1759276800-1761955199@www.wfscameron.org
SUMMARY:Mobile Lab Calendar - October 2025
DESCRIPTION:OUR MOBILE LAB IS BACK!\n\n\nCan’t make it to one of our offices? The mobile lab could be coming to YOU!\n\n\nCheck out our calendar for October 2025.\n\n\nThe Mobile Resource Lab is a Workforce Center on wheels! It is equipped with 12 computers and travels all around Cameron County! Some of the services the mobile provides are: Job Search Assistance\, Resume creation & enhancement\, MAVIS BEACON typing/keyboarding program\, On-site interviewing space and Internet Access!\n\n\nAlso\, the Mobile Lab is ADA Accessible!\n\n\n*To ensure a safe environment\, we are only using 5 computers at a time.\n\n\nSee you soon!
URL:https://www.wfscameron.org/event/mobile-lab-calendar-october-2025/
LOCATION:TX
ATTACH;FMTTYPE=image/png:https://www.wfscameron.org/wp-content/uploads/2025/09/Mobile-Lab-Calendar-October-2025.png
END:VEVENT
BEGIN:VEVENT
DTSTART;TZID=America/Chicago:20251009T090000
DTEND;TZID=America/Chicago:20251009T120000
DTSTAMP:20260422T090010
CREATED:20241220T172103Z
LAST-MODIFIED:20241220T172103Z
UID:7672-1760000400-1760011200@www.wfscameron.org
SUMMARY:[BROWNSVILLE] Soft Skills Workshop
DESCRIPTION:Our Soft Skills workshops target workers of all ages and industries to set them up for success on the job. Upon completion of the workshop\, participants get a certificate endorsed by Workforce Solutions Cameron! Topics include: – Goal Setting & Teamwork – Positive Attitude – Taking Initiative – Communication Skills\, and more
URL:https://www.wfscameron.org/event/brownsville-soft-skills-workshop-48/
LOCATION:Brownsville Workforce Center\, 851 Old Alice Rd\, Brownsville\, TX\, 78520\, United States
END:VEVENT
BEGIN:VEVENT
DTSTART;TZID=America/Chicago:20251009T130000
DTEND;TZID=America/Chicago:20251009T160000
DTSTAMP:20260422T090010
CREATED:20251001T140807Z
LAST-MODIFIED:20251001T140807Z
UID:8587-1760014800-1760025600@www.wfscameron.org
SUMMARY:Gulf Stream Marine Hiring Event
DESCRIPTION:GULF STREAM MARINE HIRING EVENT\n\n\nExciting opportunities ahead! Join us at our Gulf Stream Marine hiring event and take the next step in your career. They are looking for hardworking individuals ready to make waves in the maritime industry!\n\n\nThursday\, October 9\n1pm – 4pm\nWorkforce Solutions Cameron – 851 Old Alice Rd.\, Brownsville\, TX. 78520
URL:https://www.wfscameron.org/event/gulf-stream-marine-hiring-event-3/
LOCATION:Brownsville Workforce Center\, 851 Old Alice Rd\, Brownsville\, TX\, 78520\, United States
CATEGORIES:Hiring Events
ATTACH;FMTTYPE=image/png:https://www.wfscameron.org/wp-content/uploads/2025/10/Gulf-Stream-Marine-hiring-event-10.9.2025.png
END:VEVENT
END:VCALENDAR