BEGIN:VCALENDAR
VERSION:2.0
PRODID:-//Workforce Solutions Cameron - ECPv6.2.6//NONSGML v1.0//EN
CALSCALE:GREGORIAN
METHOD:PUBLISH
X-ORIGINAL-URL:https://www.wfscameron.org
X-WR-CALDESC:Events for Workforce Solutions Cameron
REFRESH-INTERVAL;VALUE=DURATION:PT1H
X-Robots-Tag:noindex
X-PUBLISHED-TTL:PT1H
BEGIN:VTIMEZONE
TZID:America/Chicago
BEGIN:DAYLIGHT
TZOFFSETFROM:-0600
TZOFFSETTO:-0500
TZNAME:CDT
DTSTART:20250309T080000
END:DAYLIGHT
BEGIN:STANDARD
TZOFFSETFROM:-0500
TZOFFSETTO:-0600
TZNAME:CST
DTSTART:20251102T070000
END:STANDARD
END:VTIMEZONE
BEGIN:VEVENT
DTSTART;VALUE=DATE:20251101
DTEND;VALUE=DATE:20251201
DTSTAMP:20260422T105251
CREATED:20251028T202826Z
LAST-MODIFIED:20251028T202826Z
UID:8651-1761955200-1764547199@www.wfscameron.org
SUMMARY:Mobile Lab Calendar - November 2025
DESCRIPTION:OUR MOBILE LAB IS BACK!\n\n\nCan’t make it to one of our offices? The mobile lab could be coming to YOU!\n\n\nCheck out our calendar for November 2025.\n\n\nThe Mobile Resource Lab is a Workforce Center on wheels! It is equipped with 12 computers and travels all around Cameron County! Some of the services the mobile provides are: Job Search Assistance\, Resume creation & enhancement\, MAVIS BEACON typing/keyboarding program\, On-site interviewing space and Internet Access!\n\n\nAlso\, the Mobile Lab is ADA Accessible!\n\n\n*To ensure a safe environment\, we are only using 5 computers at a time.\n\n\nSee you soon!
URL:https://www.wfscameron.org/event/mobile-lab-calendar-november-2025/
LOCATION:TX
ATTACH;FMTTYPE=image/png:https://www.wfscameron.org/wp-content/uploads/2025/10/Mobile-Lab-Calendar-November-2025.png
END:VEVENT
BEGIN:VEVENT
DTSTART;TZID=America/Chicago:20251113T090000
DTEND;TZID=America/Chicago:20251113T120000
DTSTAMP:20260422T105251
CREATED:20241220T182531Z
LAST-MODIFIED:20241220T182531Z
UID:7777-1763024400-1763035200@www.wfscameron.org
SUMMARY:[HARLINGEN] Soft Skills Workshop
DESCRIPTION:Our Soft Skills workshops target workers of all ages and industries to set them up for success on the job. Upon completion of the workshop\, participants get a certificate endorsed by Workforce Solutions Cameron! Topics include: – Goal Setting & Teamwork – Positive Attitude – Taking Initiative – Communication Skills\, and more
URL:https://www.wfscameron.org/event/harlingen-soft-skills-workshop-46/
LOCATION:West Jefferson Harlingen Office\, 1820 W. Jefferson Ave.\, Harlingen\, TX\, 78550\, United States
END:VEVENT
BEGIN:VEVENT
DTSTART;TZID=America/Chicago:20251113T093000
DTEND;TZID=America/Chicago:20251113T130000
DTSTAMP:20260422T105251
CREATED:20251023T202239Z
LAST-MODIFIED:20251104T143901Z
UID:8627-1763026200-1763038800@www.wfscameron.org
SUMMARY:Hiring Red\, White & You Job Fair
DESCRIPTION:14th Annual HIRING RED\, WHITE & YOU IS BACK! \n\n\n\nCameron County’s largest job fair is coming to Harlingen — and you don’t want to miss it!\n\n\nConnect with 50+ employers\, explore countless career opportunities\, and take the next step in your career journey.\n\n\n\nWhy attend?\n Meet employers ready to hire\n Discover opportunities in multiple industries\n Celebrate our 14th year helping veterans\, military personnel\, and spouses\n\n Thursday\, Nov. 13\, 2025 | 9:30 AM – 1:00 PM\n Harlingen Convention Center – 701 Harlingen Heights Drive\n\nRegister here: https://bit.ly/3VKqjN3
URL:https://www.wfscameron.org/event/hiring-red-white-you-job-fair-3/
LOCATION:TX
CATEGORIES:Job Fair
ATTACH;FMTTYPE=image/png:https://www.wfscameron.org/wp-content/uploads/2025/10/hrwyss.png
END:VEVENT
END:VCALENDAR