BEGIN:VCALENDAR
VERSION:2.0
PRODID:-//Workforce Solutions Cameron - ECPv6.2.6//NONSGML v1.0//EN
CALSCALE:GREGORIAN
METHOD:PUBLISH
X-WR-CALNAME:Workforce Solutions Cameron
X-ORIGINAL-URL:https://www.wfscameron.org
X-WR-CALDESC:Events for Workforce Solutions Cameron
REFRESH-INTERVAL;VALUE=DURATION:PT1H
X-Robots-Tag:noindex
X-PUBLISHED-TTL:PT1H
BEGIN:VTIMEZONE
TZID:America/Chicago
BEGIN:DAYLIGHT
TZOFFSETFROM:-0600
TZOFFSETTO:-0500
TZNAME:CDT
DTSTART:20250309T080000
END:DAYLIGHT
BEGIN:STANDARD
TZOFFSETFROM:-0500
TZOFFSETTO:-0600
TZNAME:CST
DTSTART:20251102T070000
END:STANDARD
END:VTIMEZONE
BEGIN:VEVENT
DTSTART;TZID=America/Chicago:20250409T090000
DTEND;TZID=America/Chicago:20250409T150000
DTSTAMP:20260422T101440
CREATED:20250325T134746Z
LAST-MODIFIED:20250325T134746Z
UID:8227-1744189200-1744210800@www.wfscameron.org
SUMMARY:Penn Aluminum International LLC Hiring Event
DESCRIPTION:Ready to kick-start your career in manufacturing? Penn Aluminum International LLC is looking for Machine Operators\, and they want YOU to be part of their growing team! \n📅 Date: April 9th \n⏰ Time: 9am – 3pm \n📍 Location: 1820 W. Jefferson Ave.\, Harlingen\, TX. 78550
URL:https://www.wfscameron.org/event/penn-aluminum-international-llc-hiring-event/
LOCATION:West Jefferson Harlingen Office\, 1820 W. Jefferson Ave.\, Harlingen\, TX\, 78550\, United States
CATEGORIES:Hiring Events
ATTACH;FMTTYPE=image/png:https://www.wfscameron.org/wp-content/uploads/2025/03/Penn-Aluminum-International-LLC-hiring-event-1.png
END:VEVENT
BEGIN:VEVENT
DTSTART;TZID=America/Chicago:20250414T090000
DTEND;TZID=America/Chicago:20250414T150000
DTSTAMP:20260422T101440
CREATED:20250325T190044Z
LAST-MODIFIED:20250401T165401Z
UID:8231-1744621200-1744642800@www.wfscameron.org
SUMMARY:New Horizon Health Center Hiring Event
DESCRIPTION:Are you looking for a rewarding healthcare career? New Horizon Health Center is growing\, and it is looking for dedicated professionals to join their team! They have 9 open positions and are excited to meet motivated individuals who are ready to make a difference. \n📅 Date: April 14th \n⏰ Time: 9am – 3pm \n📍 Location: 851 Old Alice Road\, Brownsville\, TX\, 78521
URL:https://www.wfscameron.org/event/new-horizon-health-center-hiring-event-2/
LOCATION:Brownsville Workforce Center\, 851 Old Alice Rd\, Brownsville\, TX\, 78520\, United States
CATEGORIES:Hiring Events
ATTACH;FMTTYPE=image/png:https://www.wfscameron.org/wp-content/uploads/2025/03/New-Horizon-Hiring-Event-1.png
END:VEVENT
BEGIN:VEVENT
DTSTART;TZID=America/Chicago:20250414T100000
DTEND;TZID=America/Chicago:20250414T120000
DTSTAMP:20260422T101440
CREATED:20250409T170532Z
LAST-MODIFIED:20250409T170532Z
UID:8270-1744624800-1744632000@www.wfscameron.org
SUMMARY:Sunny Glen's Hiring event
DESCRIPTION:Sunny Glen Children’s Home is hosting a Hiring Event\, and they’re looking for compassionate\, dedicated individuals to join their fantastic team — with many positions available across multiple departments! \n🗓 Date: April 14th\n🕒 Time:  10am – 12pm\n📌 Location: Workforce Solutions Cameron\, 1820 W. Jefferson Ave.\, Harlingen\, TX. 7855
URL:https://www.wfscameron.org/event/sunny-glens-hiring-event/
LOCATION:West Jefferson Harlingen Office\, 1820 W. Jefferson Ave.\, Harlingen\, TX\, 78550\, United States
CATEGORIES:Hiring Events
ATTACH;FMTTYPE=image/png:https://www.wfscameron.org/wp-content/uploads/2025/04/Sunny-Glen-hiring-event.png
END:VEVENT
BEGIN:VEVENT
DTSTART;TZID=America/Chicago:20250424T090000
DTEND;TZID=America/Chicago:20250424T130000
DTSTAMP:20260422T101440
CREATED:20250403T195015Z
LAST-MODIFIED:20250403T204513Z
UID:8257-1745485200-1745499600@www.wfscameron.org
SUMMARY:Gulf Stream Marine Hiring Event
DESCRIPTION:Exciting opportunities ahead! 🚢💼 Join us at our Gulf Stream Marine hiring event and take the next step in your career. They are looking for hardworking individuals ready to make waves in the maritime industry! \n📅 April 24th\n⏰ 9am – 1pm\n📍 Workforce Solutions Cameron – 851 Old Alice Rd.\, Brownsville\, TX. 78520 \nCome meet the team\, explore open positions\, and start your journey with a company that keeps things moving. Don’t miss out!
URL:https://www.wfscameron.org/event/gulf-stream-marine-hiring-event-2/
LOCATION:Brownsville Workforce Center\, 851 Old Alice Rd\, Brownsville\, TX\, 78520\, United States
CATEGORIES:Hiring Events
ATTACH;FMTTYPE=image/png:https://www.wfscameron.org/wp-content/uploads/2025/04/Gulf-Stream-Marine-hiring-event-4242025-1.png
END:VEVENT
BEGIN:VEVENT
DTSTART;TZID=America/Chicago:20250425T100000
DTEND;TZID=America/Chicago:20250425T140000
DTSTAMP:20260422T101440
CREATED:20250403T204246Z
LAST-MODIFIED:20250403T204246Z
UID:8260-1745575200-1745589600@www.wfscameron.org
SUMMARY:Cameron County Jail Division Hiring Event
DESCRIPTION:Join us at our upcoming Cameron County Jail Division Hiring Event and take the first step toward a rewarding career in law enforcement. \n📅 Date: April 25th\n⏰ Time: 10am – 2pm\n📍 Location: 851 Old Alice Road\, Brownsville TX. 78521 \nMeet their team\, learn about career opportunities\, and start your journey with Cameron County Jail Division. Competitive benefits\, career growth\, and the opportunity to serve your community await! \n 
URL:https://www.wfscameron.org/event/cameron-county-jail-division-hiring-event/
LOCATION:Brownsville Workforce Center\, 851 Old Alice Rd\, Brownsville\, TX\, 78520\, United States
CATEGORIES:Hiring Events
ATTACH;FMTTYPE=image/png:https://www.wfscameron.org/wp-content/uploads/2025/04/Cameron-County-Jail-Division-Hiring-Event-4.25.25-1.png
END:VEVENT
END:VCALENDAR