BEGIN:VCALENDAR
VERSION:2.0
PRODID:-//Workforce Solutions Cameron - ECPv6.2.6//NONSGML v1.0//EN
CALSCALE:GREGORIAN
METHOD:PUBLISH
X-ORIGINAL-URL:https://www.wfscameron.org
X-WR-CALDESC:Events for Workforce Solutions Cameron
REFRESH-INTERVAL;VALUE=DURATION:PT1H
X-Robots-Tag:noindex
X-PUBLISHED-TTL:PT1H
BEGIN:VTIMEZONE
TZID:America/Chicago
BEGIN:DAYLIGHT
TZOFFSETFROM:-0600
TZOFFSETTO:-0500
TZNAME:CDT
DTSTART:20250309T080000
END:DAYLIGHT
BEGIN:STANDARD
TZOFFSETFROM:-0500
TZOFFSETTO:-0600
TZNAME:CST
DTSTART:20251102T070000
END:STANDARD
END:VTIMEZONE
BEGIN:VEVENT
DTSTART;TZID=America/Chicago:20250522T090000
DTEND;TZID=America/Chicago:20250522T120000
DTSTAMP:20260422T114652
CREATED:20250425T164250Z
LAST-MODIFIED:20250520T170419Z
UID:8303-1747904400-1747915200@www.wfscameron.org
SUMMARY:U.S. Border Patrol Hiring Event
DESCRIPTION:🚨 NOW HIRING – U.S. BORDER PATROL 🚨\nLooking for a career with purpose\, adventure\, and great benefits?\nJoin them at their Hiring Event!\n✅ Learn about exciting opportunities\n✅ Meet real agents\n✅ Ask questions & apply on the spot! \n📍 1820 W. Jefferson Ave.\, Harlingen Tx\,78550\n📅 May 22nd 🕒 9am – 12pm \nDon’t miss your chance to start a rewarding career protecting our borders and serving our country.\n💼 Come ready. Leave inspired.
URL:https://www.wfscameron.org/event/u-s-border-patrol-hiring-event-2/
LOCATION:West Jefferson Harlingen Office\, 1820 W. Jefferson Ave.\, Harlingen\, TX\, 78550\, United States
CATEGORIES:Hiring Events
ATTACH;FMTTYPE=image/png:https://www.wfscameron.org/wp-content/uploads/2025/04/Border-Patrol-42225.png
END:VEVENT
BEGIN:VEVENT
DTSTART;TZID=America/Chicago:20250523T100000
DTEND;TZID=America/Chicago:20250523T140000
DTSTAMP:20260422T114652
CREATED:20250505T163423Z
LAST-MODIFIED:20250505T163423Z
UID:8314-1747994400-1748008800@www.wfscameron.org
SUMMARY:Sunny Glen Children's Home Hiring Event
DESCRIPTION:Sunny Glen Children’s Home is hosting a Hiring Event\, and they’re looking for compassionate\, dedicated individuals to join their fantastic team — with many positions available across multiple departments! \n🗓 Date: May 23rd\n🕒 Time:  10am – 2pm\n📌 Location: 1820 W. Jefferson Ave.\, Harlingen\, TX. 78550
URL:https://www.wfscameron.org/event/sunny-glen-childrens-home-hiring-event/
LOCATION:West Jefferson Harlingen Office\, 1820 W. Jefferson Ave.\, Harlingen\, TX\, 78550\, United States
CATEGORIES:Hiring Events
ATTACH;FMTTYPE=image/png:https://www.wfscameron.org/wp-content/uploads/2025/05/sunny-glen-hiring-event-two.png
END:VEVENT
BEGIN:VEVENT
DTSTART;TZID=America/Chicago:20250527T090000
DTEND;TZID=America/Chicago:20250527T150000
DTSTAMP:20260422T114652
CREATED:20250516T133904Z
LAST-MODIFIED:20250516T133904Z
UID:8339-1748336400-1748358000@www.wfscameron.org
SUMMARY:ACT (Advanced Call Center Technologies) Hiring Event
DESCRIPTION:Looking for a rewarding career with growth opportunities? ACT (Advanced Call Center Technologies) is hosting a Hiring Event\, and they are eager to meet individuals ready to make a difference. \nDate: May 27th \nTime: 9am – 3pm \nLocation: 2809 East Grimes St.\, Harlingen\, Texas 78550 \nDon’t miss this opportunity to start a fulfilling career with ACT. Bring your resume and enthusiasm—they are excited to meet you!
URL:https://www.wfscameron.org/event/act-advanced-call-center-technologies-hiring-event/
LOCATION:TX
CATEGORIES:Hiring Events
ATTACH;FMTTYPE=image/png:https://www.wfscameron.org/wp-content/uploads/2025/05/ACT-Hiring-Event-Flyer-5.26.25-1.png
END:VEVENT
END:VCALENDAR