BEGIN:VCALENDAR
VERSION:2.0
PRODID:-//Workforce Solutions Cameron - ECPv6.2.6//NONSGML v1.0//EN
CALSCALE:GREGORIAN
METHOD:PUBLISH
X-ORIGINAL-URL:https://www.wfscameron.org
X-WR-CALDESC:Events for Workforce Solutions Cameron
REFRESH-INTERVAL;VALUE=DURATION:PT1H
X-Robots-Tag:noindex
X-PUBLISHED-TTL:PT1H
BEGIN:VTIMEZONE
TZID:America/Chicago
BEGIN:DAYLIGHT
TZOFFSETFROM:-0600
TZOFFSETTO:-0500
TZNAME:CDT
DTSTART:20250309T080000
END:DAYLIGHT
BEGIN:STANDARD
TZOFFSETFROM:-0500
TZOFFSETTO:-0600
TZNAME:CST
DTSTART:20251102T070000
END:STANDARD
END:VTIMEZONE
BEGIN:VEVENT
DTSTART;TZID=America/Chicago:20250718T090000
DTEND;TZID=America/Chicago:20250718T120000
DTSTAMP:20260422T114652
CREATED:20250708T164826Z
LAST-MODIFIED:20250709T141149Z
UID:8434-1752829200-1752840000@www.wfscameron.org
SUMMARY:Chick-Fil-A Hiring Event
DESCRIPTION:🐔 Chick-fil-A is Hiring! 🐔 \nLooking for a job with great food\, great people\, and even better opportunities? Join them at their Chick-fil-A Hiring Event and discover how you can grow with a team that values service\, teamwork\, and leadership. \n📅 July 18th \n⌚ 9am – 12pm\n📍 1820 WEST Jefferson AVE.\, Harlingen\, TX. 78550 \nStart your career the Chick-fil-A way—where work feels like family
URL:https://www.wfscameron.org/event/chick-fil-a-hiring-event/
LOCATION:West Jefferson Harlingen Office\, 1820 W. Jefferson Ave.\, Harlingen\, TX\, 78550\, United States
CATEGORIES:Hiring Events
ATTACH;FMTTYPE=image/png:https://www.wfscameron.org/wp-content/uploads/2025/07/CHICK-FILL-A-hiring-event-7.18.25-6.png
END:VEVENT
BEGIN:VEVENT
DTSTART;TZID=America/Chicago:20250724T130000
DTEND;TZID=America/Chicago:20250724T160000
DTSTAMP:20260422T114652
CREATED:20250701T203610Z
LAST-MODIFIED:20250701T203610Z
UID:8405-1753362000-1753372800@www.wfscameron.org
SUMMARY:Tipton Auto Group Hiring Event
DESCRIPTION:🚗 Tipton Auto Group is Hiring! 🚙Looking to shift your career into high gear? Join them at their Hiring Event for Tipton Ford & Tipton Hyundai! \nThey are hiring for multiple positions—no matter your experience level\, there’s a place for you on their team \n🗓️ July 24\, from 1pm – 4pm \n📍851 Old Alice Road\, Brownsville\, TX. 78520 \nDrive your future forward with Tipton Auto Group!
URL:https://www.wfscameron.org/event/tipton-auto-group-hiring-event/
LOCATION:Brownsville Workforce Center\, 851 Old Alice Rd\, Brownsville\, TX\, 78520\, United States
CATEGORIES:Hiring Events
ATTACH;FMTTYPE=image/png:https://www.wfscameron.org/wp-content/uploads/2025/07/Tipton.png
END:VEVENT
BEGIN:VEVENT
DTSTART;TZID=America/Chicago:20250729T090000
DTEND;TZID=America/Chicago:20250729T120000
DTSTAMP:20260422T114652
CREATED:20250702T140934Z
LAST-MODIFIED:20250702T140934Z
UID:8411-1753779600-1753790400@www.wfscameron.org
SUMMARY:Border Patrol Hiring Event
DESCRIPTION:THE U.S. BORDER PATROL IS HIRING!\n\nLooking for a career with purpose\, adventure\, and great benefits?\n\n\nJoin the Border Patrol team at their hiring event\n\n\n\n July 29TH \n9am – 12pm\n1820 W. Jefferson Ave.\, Harlingen Tx\,78550
URL:https://www.wfscameron.org/event/border-patrol-hiring-event/
LOCATION:West Jefferson Harlingen Office\, 1820 W. Jefferson Ave.\, Harlingen\, TX\, 78550\, United States
CATEGORIES:Hiring Events
ATTACH;FMTTYPE=image/png:https://www.wfscameron.org/wp-content/uploads/2025/07/Tuesday-July-29.png
END:VEVENT
END:VCALENDAR