BEGIN:VCALENDAR
VERSION:2.0
PRODID:-//Workforce Solutions Cameron - ECPv6.2.6//NONSGML v1.0//EN
CALSCALE:GREGORIAN
METHOD:PUBLISH
X-ORIGINAL-URL:https://www.wfscameron.org
X-WR-CALDESC:Events for Workforce Solutions Cameron
REFRESH-INTERVAL;VALUE=DURATION:PT1H
X-Robots-Tag:noindex
X-PUBLISHED-TTL:PT1H
BEGIN:VTIMEZONE
TZID:America/Chicago
BEGIN:DAYLIGHT
TZOFFSETFROM:-0600
TZOFFSETTO:-0500
TZNAME:CDT
DTSTART:20260308T080000
END:DAYLIGHT
BEGIN:STANDARD
TZOFFSETFROM:-0500
TZOFFSETTO:-0600
TZNAME:CST
DTSTART:20261101T070000
END:STANDARD
END:VTIMEZONE
BEGIN:VEVENT
DTSTART;TZID=America/Chicago:20260306T100000
DTEND;TZID=America/Chicago:20260306T160000
DTSTAMP:20260420T002746
CREATED:20260219T171410Z
LAST-MODIFIED:20260219T171410Z
UID:9177-1772791200-1772812800@www.wfscameron.org
SUMMARY:Spencer Constructions Hiring Event
DESCRIPTION:🚧 Spencer Construction is Hiring! 🚧 \nJoin us for a 2-Day Hiring Event and come prepared to be hired! \n📅 March 5th | 12PM–5PM📅 March 6th | 10AM–4PM📍 851 Old Alice Road\, Brownsville\, TX 78520 \nWalk in ready to work\, bring your ID and resume!Your next opportunity starts here.
URL:https://www.wfscameron.org/event/spencer-constructions-hiring-event/
LOCATION:Brownsville Workforce Center\, 851 Old Alice Rd\, Brownsville\, TX\, 78520\, United States
CATEGORIES:Hiring Events
ATTACH;FMTTYPE=image/png:https://www.wfscameron.org/wp-content/uploads/2026/02/Spencer-Construction-Hiring-event-.png
END:VEVENT
BEGIN:VEVENT
DTSTART;TZID=America/Chicago:20260312T090000
DTEND;TZID=America/Chicago:20260312T160000
DTSTAMP:20260420T002746
CREATED:20260122T225309Z
LAST-MODIFIED:20260122T225309Z
UID:9120-1773306000-1773331200@www.wfscameron.org
SUMMARY:E&E Foods Hiring Event
DESCRIPTION:Ready for a new job? E&E Foods is hiring! \nDon’t miss your opportunity to live in Alaska over the summer! \n  \nDate: March 12th \nTime: 9am – 4pm \nLocation: 851 Old Alice Road\, Brownsville\, TX. 78520 \n 
URL:https://www.wfscameron.org/event/ee-foods-hiring-event/
LOCATION:Brownsville Workforce Center\, 851 Old Alice Rd\, Brownsville\, TX\, 78520\, United States
CATEGORIES:Hiring Events
ATTACH;FMTTYPE=image/png:https://www.wfscameron.org/wp-content/uploads/2026/01/EE-Hiring-Event-3.12.26.png
END:VEVENT
BEGIN:VEVENT
DTSTART;TZID=America/Chicago:20260316T090000
DTEND;TZID=America/Chicago:20260316T120000
DTSTAMP:20260420T002746
CREATED:20260316T190645Z
LAST-MODIFIED:20260316T190645Z
UID:9199-1773651600-1773662400@www.wfscameron.org
SUMMARY:US Border Patrol Hiring Event
DESCRIPTION:Looking for a career with purpose\, adventure\, and great benefits?\n\n\nJoin the U.S. Border Patrol!\n\n\n Date: March 23rd\n Time: 9am – 12pm\n Location: 1820 W. JEFFERSON AVENUE\, HARLINGEN\, TX. 78550
URL:https://www.wfscameron.org/event/us-border-patrol-hiring-event/
LOCATION:West Jefferson Harlingen Office\, 1820 W. Jefferson Ave.\, Harlingen\, TX\, 78550\, United States
CATEGORIES:Hiring Events
ATTACH;FMTTYPE=image/png:https://www.wfscameron.org/wp-content/uploads/2017/10/Border-Patrol-31126.png
END:VEVENT
END:VCALENDAR