BEGIN:VCALENDAR
VERSION:2.0
PRODID:-//Workforce Solutions Cameron - ECPv6.2.6//NONSGML v1.0//EN
CALSCALE:GREGORIAN
METHOD:PUBLISH
X-ORIGINAL-URL:https://www.wfscameron.org
X-WR-CALDESC:Events for Workforce Solutions Cameron
REFRESH-INTERVAL;VALUE=DURATION:PT1H
X-Robots-Tag:noindex
X-PUBLISHED-TTL:PT1H
BEGIN:VTIMEZONE
TZID:America/Chicago
BEGIN:DAYLIGHT
TZOFFSETFROM:-0600
TZOFFSETTO:-0500
TZNAME:CDT
DTSTART:20250309T080000
END:DAYLIGHT
BEGIN:STANDARD
TZOFFSETFROM:-0500
TZOFFSETTO:-0600
TZNAME:CST
DTSTART:20251102T070000
END:STANDARD
END:VTIMEZONE
BEGIN:VEVENT
DTSTART;TZID=America/Chicago:20250627T100000
DTEND;TZID=America/Chicago:20250627T140000
DTSTAMP:20260422T144813
CREATED:20250610T161550Z
LAST-MODIFIED:20250610T161550Z
UID:8368-1751018400-1751032800@www.wfscameron.org
SUMMARY:Sunny Glen Children's Hiring Event
DESCRIPTION:Sunny Glen Children’s Home is hosting a Hiring Event \nThey’re seeking compassionate and dedicated individuals to join their exceptional team\, with numerous positions available across multiple departments. \nDate: June 27th \nTime:  10am – 2pm \nLocation: 1820 W. Jefferson Ave.\, Harlingen\, TX. 78550
URL:https://www.wfscameron.org/event/sunny-glen-childrens-hiring-event/
LOCATION:West Jefferson Harlingen Office\, 1820 W. Jefferson Ave.\, Harlingen\, TX\, 78550\, United States
CATEGORIES:Hiring Events
ATTACH;FMTTYPE=image/png:https://www.wfscameron.org/wp-content/uploads/2025/06/image001.png
END:VEVENT
END:VCALENDAR