BEGIN:VCALENDAR
VERSION:2.0
PRODID:-//Workforce Solutions Cameron - ECPv6.2.6//NONSGML v1.0//EN
CALSCALE:GREGORIAN
METHOD:PUBLISH
X-WR-CALNAME:Workforce Solutions Cameron
X-ORIGINAL-URL:https://www.wfscameron.org
X-WR-CALDESC:Events for Workforce Solutions Cameron
REFRESH-INTERVAL;VALUE=DURATION:PT1H
X-Robots-Tag:noindex
X-PUBLISHED-TTL:PT1H
BEGIN:VTIMEZONE
TZID:America/Chicago
BEGIN:DAYLIGHT
TZOFFSETFROM:-0600
TZOFFSETTO:-0500
TZNAME:CDT
DTSTART:20250309T080000
END:DAYLIGHT
BEGIN:STANDARD
TZOFFSETFROM:-0500
TZOFFSETTO:-0600
TZNAME:CST
DTSTART:20251102T070000
END:STANDARD
END:VTIMEZONE
BEGIN:VEVENT
DTSTART;TZID=America/Chicago:20250911T090000
DTEND;TZID=America/Chicago:20250911T150000
DTSTAMP:20260422T101715
CREATED:20250808T185242Z
LAST-MODIFIED:20250808T185242Z
UID:8496-1757581200-1757602800@www.wfscameron.org
SUMMARY:ROSS DRESS FOR LESS Hiring Event
DESCRIPTION:🛍️ They are Hiring – Ross Dress for Less is Coming to Town! 🎉\nBe part of the team at the newest Ross Dress for Less store opening soon in Brownsville \n📅 September 11 and 12\n⏰ 9am – 3pm \n📍 851 Old Alice Rd.\, Brownsville\, TX. 78520 \nDon’t miss your chance to join a company known for great style and even greater savings\, and now\, a great career opportunity for YOU!
URL:https://www.wfscameron.org/event/ross-dress-for-less-hiring-event/
LOCATION:Brownsville Workforce Center\, 851 Old Alice Rd\, Brownsville\, TX\, 78520\, United States
CATEGORIES:Hiring Events
ATTACH;FMTTYPE=image/png:https://www.wfscameron.org/wp-content/uploads/2025/08/ROSS-DRESS-FOR-LESS-Hiring-Event-9112025-1.png
END:VEVENT
END:VCALENDAR