BEGIN:VCALENDAR
VERSION:2.0
PRODID:-//Workforce Solutions Cameron - ECPv6.2.6//NONSGML v1.0//EN
CALSCALE:GREGORIAN
METHOD:PUBLISH
X-ORIGINAL-URL:https://www.wfscameron.org
X-WR-CALDESC:Events for Workforce Solutions Cameron
REFRESH-INTERVAL;VALUE=DURATION:PT1H
X-Robots-Tag:noindex
X-PUBLISHED-TTL:PT1H
BEGIN:VTIMEZONE
TZID:America/Chicago
BEGIN:DAYLIGHT
TZOFFSETFROM:-0600
TZOFFSETTO:-0500
TZNAME:CDT
DTSTART:20250309T080000
END:DAYLIGHT
BEGIN:STANDARD
TZOFFSETFROM:-0500
TZOFFSETTO:-0600
TZNAME:CST
DTSTART:20251102T070000
END:STANDARD
END:VTIMEZONE
BEGIN:VEVENT
DTSTART;TZID=America/Chicago:20251010T130000
DTEND;TZID=America/Chicago:20251010T150000
DTSTAMP:20260422T084355
CREATED:20251001T141017Z
LAST-MODIFIED:20251001T141017Z
UID:8590-1760101200-1760108400@www.wfscameron.org
SUMMARY:Fall into a Career Hiring Event
DESCRIPTION:Fall into your future healthcare career! Join us at our Fall Into a Career hiring event happening at TWO locations: SAME TIME\, SAME DAY! \n\n\nWe’ll be at the Brownsville location ready to assist!\n\n\nWith tons of opportunities and great benefits waiting for you\, this is your chance to land the job you’ve been looking for. Don’t miss it! \n\n\n October 10th\n 1pm – 3pm\n 1001 Central Boulevard\, Brownsville\, TX. 78520\n 3810 Hale Avenue\, Harlingen\, TX. 78550\n\n\nCome meet the team\, explore open positions\, and start your journey with a company that keeps things moving. Don’t miss out!
URL:https://www.wfscameron.org/event/fall-into-a-career-hiring-event-2/
LOCATION:TX
CATEGORIES:Hiring Events
ATTACH;FMTTYPE=image/png:https://www.wfscameron.org/wp-content/uploads/2025/10/Fall-into-a-career-Hiring-event-.png
END:VEVENT
END:VCALENDAR