BEGIN:VCALENDAR
VERSION:2.0
PRODID:-//Workforce Solutions Cameron - ECPv6.2.6//NONSGML v1.0//EN
CALSCALE:GREGORIAN
METHOD:PUBLISH
X-ORIGINAL-URL:https://www.wfscameron.org
X-WR-CALDESC:Events for Workforce Solutions Cameron
REFRESH-INTERVAL;VALUE=DURATION:PT1H
X-Robots-Tag:noindex
X-PUBLISHED-TTL:PT1H
BEGIN:VTIMEZONE
TZID:America/Chicago
BEGIN:DAYLIGHT
TZOFFSETFROM:-0600
TZOFFSETTO:-0500
TZNAME:CDT
DTSTART:20250309T080000
END:DAYLIGHT
BEGIN:STANDARD
TZOFFSETFROM:-0500
TZOFFSETTO:-0600
TZNAME:CST
DTSTART:20251102T070000
END:STANDARD
END:VTIMEZONE
BEGIN:VEVENT
DTSTART;TZID=America/Chicago:20251016T093000
DTEND;TZID=America/Chicago:20251016T130000
DTSTAMP:20260422T083641
CREATED:20250917T202843Z
LAST-MODIFIED:20250917T202843Z
UID:8551-1760607000-1760619600@www.wfscameron.org
SUMMARY:TEX-Best Travel Center Hiring Event
DESCRIPTION:🚨 We’re Hiring! 🚨Join us at our Hiring Event with TEX-Best Travel Center and discover exciting new career opportunities! 💼✨ \n📅 Date: October 2 and 16\, 9:30am – 1pm📍 Location: 851 Old Alice Road\, Brownsville TX 78521 \nCome meet the team\, apply on the spot\, and take the first step toward your next career move. Don’t miss out\, your opportunity starts here! 🙌
URL:https://www.wfscameron.org/event/tex-best-travel-center-hiring-event/
LOCATION:Brownsville Workforce Center\, 851 Old Alice Rd\, Brownsville\, TX\, 78520\, United States
CATEGORIES:Hiring Events
ATTACH;FMTTYPE=image/png:https://www.wfscameron.org/wp-content/uploads/2025/09/TEX-Best-travel-center-Hiring-event-4.png
END:VEVENT
END:VCALENDAR