BEGIN:VCALENDAR
VERSION:2.0
PRODID:-//Workforce Solutions Cameron - ECPv6.2.6//NONSGML v1.0//EN
CALSCALE:GREGORIAN
METHOD:PUBLISH
X-ORIGINAL-URL:https://www.wfscameron.org
X-WR-CALDESC:Events for Workforce Solutions Cameron
REFRESH-INTERVAL;VALUE=DURATION:PT1H
X-Robots-Tag:noindex
X-PUBLISHED-TTL:PT1H
BEGIN:VTIMEZONE
TZID:America/Chicago
BEGIN:DAYLIGHT
TZOFFSETFROM:-0600
TZOFFSETTO:-0500
TZNAME:CDT
DTSTART:20250309T080000
END:DAYLIGHT
BEGIN:STANDARD
TZOFFSETFROM:-0500
TZOFFSETTO:-0600
TZNAME:CST
DTSTART:20251102T070000
END:STANDARD
END:VTIMEZONE
BEGIN:VEVENT
DTSTART;TZID=America/Chicago:20251105T090000
DTEND;TZID=America/Chicago:20251105T160000
DTSTAMP:20260422T065336
CREATED:20251024T155727Z
LAST-MODIFIED:20251024T155727Z
UID:8636-1762333200-1762358400@www.wfscameron.org
SUMMARY:Responsive Deployment Hiring Event
DESCRIPTION:📢 Responsive Deployment is hiring! \nMultiple openings — competitive pay\, great benefits\, and a chance to grow your career! 💪 \nJoin us on November 5th\, 2025 | 9AM–4PM | 851 Old Alice Road\, Brownsville\, TX. 78520
URL:https://www.wfscameron.org/event/responsive-deployment-hiring-event/
LOCATION:Brownsville Workforce Center\, 851 Old Alice Rd\, Brownsville\, TX\, 78520\, United States
CATEGORIES:Hiring Events
ATTACH;FMTTYPE=image/png:https://www.wfscameron.org/wp-content/uploads/2025/10/Responsive-Deployment-Hiring-Event-1.png
END:VEVENT
END:VCALENDAR