BEGIN:VCALENDAR
VERSION:2.0
PRODID:-//Workforce Solutions Cameron - ECPv6.2.6//NONSGML v1.0//EN
CALSCALE:GREGORIAN
METHOD:PUBLISH
X-WR-CALNAME:Workforce Solutions Cameron
X-ORIGINAL-URL:https://www.wfscameron.org
X-WR-CALDESC:Events for Workforce Solutions Cameron
REFRESH-INTERVAL;VALUE=DURATION:PT1H
X-Robots-Tag:noindex
X-PUBLISHED-TTL:PT1H
BEGIN:VTIMEZONE
TZID:America/Chicago
BEGIN:DAYLIGHT
TZOFFSETFROM:-0600
TZOFFSETTO:-0500
TZNAME:CDT
DTSTART:20250309T080000
END:DAYLIGHT
BEGIN:STANDARD
TZOFFSETFROM:-0500
TZOFFSETTO:-0600
TZNAME:CST
DTSTART:20251102T070000
END:STANDARD
END:VTIMEZONE
BEGIN:VEVENT
DTSTART;TZID=America/Chicago:20251205T100000
DTEND;TZID=America/Chicago:20251205T140000
DTSTAMP:20260422T050836
CREATED:20251119T203749Z
LAST-MODIFIED:20251119T203749Z
UID:8693-1764928800-1764943200@www.wfscameron.org
SUMMARY:Cameron County Jail Division Recruitment Workshop
DESCRIPTION:🔷 Join the Team at the Cameron County Jail Division Hiring Event!Discover rewarding career opportunities\, great benefits\, and a chance to make a real impact in our community.📅 Date: December 5th⏰ Time: 10am – 2pm📍 Location: 851 Old Alice Road\, Brownsville TX. 78521
URL:https://www.wfscameron.org/event/cameron-county-jail-division-recruitment-workshop/
LOCATION:Brownsville Workforce Center\, 851 Old Alice Rd\, Brownsville\, TX\, 78520\, United States
CATEGORIES:Hiring Events
ATTACH;FMTTYPE=image/png:https://www.wfscameron.org/wp-content/uploads/2025/11/Cameron-County-Jail-Division-Hiring-Event-12.5.25-4.png
END:VEVENT
END:VCALENDAR