BEGIN:VCALENDAR
VERSION:2.0
PRODID:-//Workforce Solutions Cameron - ECPv6.2.6//NONSGML v1.0//EN
CALSCALE:GREGORIAN
METHOD:PUBLISH
X-WR-CALNAME:Workforce Solutions Cameron
X-ORIGINAL-URL:https://www.wfscameron.org
X-WR-CALDESC:Events for Workforce Solutions Cameron
REFRESH-INTERVAL;VALUE=DURATION:PT1H
X-Robots-Tag:noindex
X-PUBLISHED-TTL:PT1H
BEGIN:VTIMEZONE
TZID:America/Chicago
BEGIN:DAYLIGHT
TZOFFSETFROM:-0600
TZOFFSETTO:-0500
TZNAME:CDT
DTSTART:20250309T080000
END:DAYLIGHT
BEGIN:STANDARD
TZOFFSETFROM:-0500
TZOFFSETTO:-0600
TZNAME:CST
DTSTART:20251102T070000
END:STANDARD
END:VTIMEZONE
BEGIN:VEVENT
DTSTART;TZID=America/Chicago:20251217T100000
DTEND;TZID=America/Chicago:20251217T150000
DTSTAMP:20260422T052801
CREATED:20251202T214752Z
LAST-MODIFIED:20251202T214752Z
UID:8718-1765965600-1765983600@www.wfscameron.org
SUMMARY:Wingstop Hiring Event
DESCRIPTION:🍗 Ready to level up your career?Wingstop is hosting a Hiring Event with tons of opportunities\, awesome benefits\, and a fun team waiting for you!📅 Date: December 16⏰ Time: 10am – 3pm📍 Location: 1820 W. JEFFERSON AVENUE\, HARLINGEN\, TX. 78550 \nLet’s make your next job your best job! 💼✨
URL:https://www.wfscameron.org/event/wingstop-hiring-event-2/
LOCATION:West Jefferson Harlingen Office\, 1820 W. Jefferson Ave.\, Harlingen\, TX\, 78550\, United States
CATEGORIES:Hiring Events
ATTACH;FMTTYPE=image/png:https://www.wfscameron.org/wp-content/uploads/2017/10/Wing-Stop-Hiring-Event-1.png
END:VEVENT
END:VCALENDAR