BEGIN:VCALENDAR
VERSION:2.0
PRODID:-//Workforce Solutions Cameron - ECPv6.2.6//NONSGML v1.0//EN
CALSCALE:GREGORIAN
METHOD:PUBLISH
X-ORIGINAL-URL:https://www.wfscameron.org
X-WR-CALDESC:Events for Workforce Solutions Cameron
REFRESH-INTERVAL;VALUE=DURATION:PT1H
X-Robots-Tag:noindex
X-PUBLISHED-TTL:PT1H
BEGIN:VTIMEZONE
TZID:America/Chicago
BEGIN:DAYLIGHT
TZOFFSETFROM:-0600
TZOFFSETTO:-0500
TZNAME:CDT
DTSTART:20250309T080000
END:DAYLIGHT
BEGIN:STANDARD
TZOFFSETFROM:-0500
TZOFFSETTO:-0600
TZNAME:CST
DTSTART:20251102T070000
END:STANDARD
END:VTIMEZONE
BEGIN:VEVENT
DTSTART;TZID=America/Chicago:20251218T090000
DTEND;TZID=America/Chicago:20251218T120000
DTSTAMP:20260422T051146
CREATED:20251119T164134Z
LAST-MODIFIED:20251119T164134Z
UID:8688-1766048400-1766059200@www.wfscameron.org
SUMMARY:Border Patrol Hiring Event
DESCRIPTION:THE U.S. BORDER PATROL IS HIRING!\n\n\nLooking for a career with purpose\, adventure\, and great benefits?\n\n\nJoin the Border Patrol team at their hiring event:\nDecember 18th\, 9am – 12pm @ 1820 W. Jefferson Ave.\, Harlingen\, TX. 78550
URL:https://www.wfscameron.org/event/border-patrol-hiring-event-4/
LOCATION:West Jefferson Harlingen Office\, 1820 W. Jefferson Ave.\, Harlingen\, TX\, 78550\, United States
CATEGORIES:Hiring Events
ATTACH;FMTTYPE=image/png:https://www.wfscameron.org/wp-content/uploads/2025/11/Border-Patrol-121825.png
END:VEVENT
END:VCALENDAR