BEGIN:VCALENDAR
VERSION:2.0
PRODID:-//Workforce Solutions Cameron - ECPv6.2.6//NONSGML v1.0//EN
CALSCALE:GREGORIAN
METHOD:PUBLISH
X-WR-CALNAME:Workforce Solutions Cameron
X-ORIGINAL-URL:https://www.wfscameron.org
X-WR-CALDESC:Events for Workforce Solutions Cameron
REFRESH-INTERVAL;VALUE=DURATION:PT1H
X-Robots-Tag:noindex
X-PUBLISHED-TTL:PT1H
BEGIN:VTIMEZONE
TZID:America/Chicago
BEGIN:DAYLIGHT
TZOFFSETFROM:-0600
TZOFFSETTO:-0500
TZNAME:CDT
DTSTART:20260308T080000
END:DAYLIGHT
BEGIN:STANDARD
TZOFFSETFROM:-0500
TZOFFSETTO:-0600
TZNAME:CST
DTSTART:20261101T070000
END:STANDARD
END:VTIMEZONE
BEGIN:VEVENT
DTSTART;TZID=America/Chicago:20260514T090000
DTEND;TZID=America/Chicago:20260514T120000
DTSTAMP:20260420T021123
CREATED:20260417T134333Z
LAST-MODIFIED:20260417T134333Z
UID:9220-1778749200-1778760000@www.wfscameron.org
SUMMARY:The U.S. Border Patrol Hiring Event
DESCRIPTION:Looking for a career with purpose\, adventure\, and great benefits?\n\n\nJoin the U.S. Border Patrol!\n\n\n Date: May 7th and 14th\n Time: 9am – 12pm\n Location: 1820 W. JEFFERSON AVENUE\, HARLINGEN\, TX. 78550
URL:https://www.wfscameron.org/event/the-u-s-border-patrol-hiring-event-2/
LOCATION:West Jefferson Harlingen Office\, 1820 W. Jefferson Ave.\, Harlingen\, TX\, 78550\, United States
CATEGORIES:Hiring Events
ATTACH;FMTTYPE=image/png:https://www.wfscameron.org/wp-content/uploads/2026/04/Border-Patrol-5726.png
END:VEVENT
END:VCALENDAR