BEGIN:VCALENDAR
VERSION:2.0
PRODID:-//Workforce Solutions Cameron - ECPv6.2.6//NONSGML v1.0//EN
CALSCALE:GREGORIAN
METHOD:PUBLISH
X-WR-CALNAME:Workforce Solutions Cameron
X-ORIGINAL-URL:https://www.wfscameron.org
X-WR-CALDESC:Events for Workforce Solutions Cameron
REFRESH-INTERVAL;VALUE=DURATION:PT1H
X-Robots-Tag:noindex
X-PUBLISHED-TTL:PT1H
BEGIN:VTIMEZONE
TZID:America/Chicago
BEGIN:DAYLIGHT
TZOFFSETFROM:-0600
TZOFFSETTO:-0500
TZNAME:CDT
DTSTART:20250309T080000
END:DAYLIGHT
BEGIN:STANDARD
TZOFFSETFROM:-0500
TZOFFSETTO:-0600
TZNAME:CST
DTSTART:20251102T070000
END:STANDARD
END:VTIMEZONE
BEGIN:VEVENT
DTSTART;TZID=America/Chicago:20250611T090000
DTEND;TZID=America/Chicago:20250611T120000
DTSTAMP:20260422T114611
CREATED:20250530T145521Z
LAST-MODIFIED:20250530T145521Z
UID:8351-1749632400-1749643200@www.wfscameron.org
SUMMARY:Youth Job Fair
DESCRIPTION:Calling all youth job seekers! \n\n\nLooking for your first job or wanting to switch it up? Join us at our Youth Job Fair and connect with local employers ready to hire!\n\n\n Date: June 11th\n Time: 9am – 12pm\n Location: Casa de Amistad\, 1204 Fair Park Blvd. Harlingen\, TX. 78550\n\n\nThis is your chance to explore job opportunities\, meet recruiters\, and take the next step towards your career! Don’t miss out—bring your resume and dress to impress!
URL:https://www.wfscameron.org/event/youth-job-fair/
CATEGORIES:Job Fair
ATTACH;FMTTYPE=image/png:https://www.wfscameron.org/wp-content/uploads/2025/05/2-3.png
END:VEVENT
END:VCALENDAR