BEGIN:VCALENDAR
VERSION:2.0
PRODID:-//Workforce Solutions Cameron - ECPv6.2.6//NONSGML v1.0//EN
CALSCALE:GREGORIAN
METHOD:PUBLISH
X-WR-CALNAME:Workforce Solutions Cameron
X-ORIGINAL-URL:https://www.wfscameron.org
X-WR-CALDESC:Events for Workforce Solutions Cameron
REFRESH-INTERVAL;VALUE=DURATION:PT1H
X-Robots-Tag:noindex
X-PUBLISHED-TTL:PT1H
BEGIN:VTIMEZONE
TZID:America/Chicago
BEGIN:DAYLIGHT
TZOFFSETFROM:-0600
TZOFFSETTO:-0500
TZNAME:CDT
DTSTART:20250309T080000
END:DAYLIGHT
BEGIN:STANDARD
TZOFFSETFROM:-0500
TZOFFSETTO:-0600
TZNAME:CST
DTSTART:20251102T070000
END:STANDARD
END:VTIMEZONE
BEGIN:VEVENT
DTSTART;TZID=America/Chicago:20251113T093000
DTEND;TZID=America/Chicago:20251113T130000
DTSTAMP:20260422T052731
CREATED:20251023T202239Z
LAST-MODIFIED:20251104T143901Z
UID:8627-1763026200-1763038800@www.wfscameron.org
SUMMARY:Hiring Red\, White & You Job Fair
DESCRIPTION:14th Annual HIRING RED\, WHITE & YOU IS BACK! \n\n\n\nCameron County’s largest job fair is coming to Harlingen — and you don’t want to miss it!\n\n\nConnect with 50+ employers\, explore countless career opportunities\, and take the next step in your career journey.\n\n\n\nWhy attend?\n Meet employers ready to hire\n Discover opportunities in multiple industries\n Celebrate our 14th year helping veterans\, military personnel\, and spouses\n\n Thursday\, Nov. 13\, 2025 | 9:30 AM – 1:00 PM\n Harlingen Convention Center – 701 Harlingen Heights Drive\n\nRegister here: https://bit.ly/3VKqjN3
URL:https://www.wfscameron.org/event/hiring-red-white-you-job-fair-3/
CATEGORIES:Job Fair
ATTACH;FMTTYPE=image/png:https://www.wfscameron.org/wp-content/uploads/2025/10/hrwyss.png
END:VEVENT
END:VCALENDAR