BEGIN:VCALENDAR
VERSION:2.0
PRODID:-//Workforce Solutions Cameron - ECPv6.2.6//NONSGML v1.0//EN
CALSCALE:GREGORIAN
METHOD:PUBLISH
X-WR-CALNAME:Workforce Solutions Cameron
X-ORIGINAL-URL:https://www.wfscameron.org
X-WR-CALDESC:Events for Workforce Solutions Cameron
REFRESH-INTERVAL;VALUE=DURATION:PT1H
X-Robots-Tag:noindex
X-PUBLISHED-TTL:PT1H
BEGIN:VTIMEZONE
TZID:America/Chicago
BEGIN:DAYLIGHT
TZOFFSETFROM:-0600
TZOFFSETTO:-0500
TZNAME:CDT
DTSTART:20260308T080000
END:DAYLIGHT
BEGIN:STANDARD
TZOFFSETFROM:-0500
TZOFFSETTO:-0600
TZNAME:CST
DTSTART:20261101T070000
END:STANDARD
END:VTIMEZONE
BEGIN:VEVENT
DTSTART;TZID=America/Chicago:20260331T090000
DTEND;TZID=America/Chicago:20260331T120000
DTSTAMP:20260420T002643
CREATED:20260306T173051Z
LAST-MODIFIED:20260306T173051Z
UID:9194-1774947600-1774958400@www.wfscameron.org
SUMMARY:Spring Job Fair
DESCRIPTION:OUR JOB FAIRS ARE BACK! \nDon’t miss the first one of 2026! \nThe Spring Job Fair is coming soon! \n📅 March 31st\n⏰ 9am – 12pm\n📍 Brownsville Events Center\, 1 Event Center\, Brownsville\, TX. 78526 \nREGISTER TODAY: https://www.eventbrite.com/e/spring-job-fair-2026-job-seeker-tickets-1984337155850?aff=oddtdtcreator
URL:https://www.wfscameron.org/event/spring-job-fair/
CATEGORIES:Job Fair
ATTACH;FMTTYPE=image/png:https://www.wfscameron.org/wp-content/uploads/2026/03/Spring-Job-fair-4.png
END:VEVENT
END:VCALENDAR