BEGIN:VCALENDAR
VERSION:2.0
PRODID:-//Workforce Solutions Cameron - ECPv6.2.6//NONSGML v1.0//EN
CALSCALE:GREGORIAN
METHOD:PUBLISH
X-WR-CALNAME:Workforce Solutions Cameron
X-ORIGINAL-URL:https://www.wfscameron.org
X-WR-CALDESC:Events for Workforce Solutions Cameron
REFRESH-INTERVAL;VALUE=DURATION:PT1H
X-Robots-Tag:noindex
X-PUBLISHED-TTL:PT1H
BEGIN:VTIMEZONE
TZID:America/Chicago
BEGIN:DAYLIGHT
TZOFFSETFROM:-0600
TZOFFSETTO:-0500
TZNAME:CDT
DTSTART:20250309T080000
END:DAYLIGHT
BEGIN:STANDARD
TZOFFSETFROM:-0500
TZOFFSETTO:-0600
TZNAME:CST
DTSTART:20251102T070000
END:STANDARD
END:VTIMEZONE
BEGIN:VEVENT
DTSTART;TZID=America/Chicago:20250423T090000
DTEND;TZID=America/Chicago:20250423T120000
DTSTAMP:20260422T065137
CREATED:20250403T141656Z
LAST-MODIFIED:20250403T141656Z
UID:8253-1745398800-1745409600@www.wfscameron.org
SUMMARY:Spring 2025 Job Fair
DESCRIPTION:🌟 Spring 2025 Job Fair – Discover Your Next Career Move! 🌟\nReady to work? Connect with top employers\, explore career opportunities\, and find the right job for you! \n📅 Wednesday\, April 23rd \n⏰ 9am – 12pm \n📍 Ambassador Events Center\, 2735 Ruben Torres Sr. Blvd. Brownsville\, TX. 78526 \nDon’t miss out—exciting career opportunities are waiting!
URL:https://www.wfscameron.org/event/spring-2025-job-fair/
CATEGORIES:Job Fair
ATTACH;FMTTYPE=image/png:https://www.wfscameron.org/wp-content/uploads/2025/04/ss-of-Spring-Job-Fair.png
END:VEVENT
END:VCALENDAR