BEGIN:VCALENDAR
VERSION:2.0
PRODID:-//Workforce Solutions Cameron - ECPv6.2.6//NONSGML v1.0//EN
CALSCALE:GREGORIAN
METHOD:PUBLISH
X-WR-CALNAME:Workforce Solutions Cameron
X-ORIGINAL-URL:https://www.wfscameron.org
X-WR-CALDESC:Events for Workforce Solutions Cameron
REFRESH-INTERVAL;VALUE=DURATION:PT1H
X-Robots-Tag:noindex
X-PUBLISHED-TTL:PT1H
BEGIN:VTIMEZONE
TZID:America/Chicago
BEGIN:DAYLIGHT
TZOFFSETFROM:-0600
TZOFFSETTO:-0500
TZNAME:CDT
DTSTART:20250309T080000
END:DAYLIGHT
BEGIN:STANDARD
TZOFFSETFROM:-0500
TZOFFSETTO:-0600
TZNAME:CST
DTSTART:20251102T070000
END:STANDARD
END:VTIMEZONE
BEGIN:VEVENT
DTSTART;TZID=America/Chicago:20250723T090000
DTEND;TZID=America/Chicago:20250723T120000
DTSTAMP:20260422T132808
CREATED:20250701T190950Z
LAST-MODIFIED:20250701T190950Z
UID:8401-1753261200-1753272000@www.wfscameron.org
SUMMARY:Stay in the 956 Job Fair
DESCRIPTION:Stay in the 956 Job Fair! \nWhy leave when the opportunities are right here at home!\nJoin us for a chance to connect with local employers\, explore career options\, and take the next step towards your future—all happening right here in the 956! \n USE YOUR DEGREE\, START YOUR CAREER! \n🗓️ Wednesday\, July 23rd \n⏰ 9am – 12pm \n📍 Brownsville Events Center (1 Events Center Blvd.\, Brownsville\, TX. 78526) \nBuild your future without leaving your community.
URL:https://www.wfscameron.org/event/stay-in-the-956-job-fair-2/
CATEGORIES:Job Fair
ATTACH;FMTTYPE=image/png:https://www.wfscameron.org/wp-content/uploads/2025/07/Antonio-draft-4.png
END:VEVENT
END:VCALENDAR