BEGIN:VCALENDAR
VERSION:2.0
PRODID:-//Workforce Solutions Cameron - ECPv6.2.6//NONSGML v1.0//EN
CALSCALE:GREGORIAN
METHOD:PUBLISH
X-ORIGINAL-URL:https://www.wfscameron.org
X-WR-CALDESC:Events for Workforce Solutions Cameron
REFRESH-INTERVAL;VALUE=DURATION:PT1H
X-Robots-Tag:noindex
X-PUBLISHED-TTL:PT1H
BEGIN:VTIMEZONE
TZID:America/Chicago
BEGIN:DAYLIGHT
TZOFFSETFROM:-0600
TZOFFSETTO:-0500
TZNAME:CDT
DTSTART:20220313T080000
END:DAYLIGHT
BEGIN:STANDARD
TZOFFSETFROM:-0500
TZOFFSETTO:-0600
TZNAME:CST
DTSTART:20221106T070000
END:STANDARD
END:VTIMEZONE
BEGIN:VEVENT
DTSTART;TZID=America/Chicago:20220401T080000
DTEND;TZID=America/Chicago:20220430T170000
DTSTAMP:20260424T093414
CREATED:20220427T131116Z
LAST-MODIFIED:20220427T131116Z
UID:4752-1648800000-1651338000@www.wfscameron.org
SUMMARY:Mobile Lab Calendar - April 2022
DESCRIPTION:OUR MOBILE LAB IS BACK!\n\n\nCan’t make it to one of our offices? The mobile lab could be coming to YOU!\n\n\nCheck out our calendar for April 2022.\n\n\nThe Mobile Resource Lab is a Workforce Center on wheels! It is equipped with 12 computers and travels all around Cameron County! Some of the services the mobile provides are: Job Search Assistance\, Resume creation & enhancement\, MANGO language learning program\, MAVIS BEACON typing/keyboarding program\, On-site interviewing space and Internet Access!\n\n\nAlso\, the Mobile Lab is ADA Accessible!\n\n\n*To ensure a safe environment\, we are only using 5 computers at a time.\n\n\nSee you soon!
URL:https://www.wfscameron.org/event/mobile-lab-calendar-april-2022/
LOCATION:TX
ATTACH;FMTTYPE=image/png:https://www.wfscameron.org/wp-content/uploads/2022/04/Mobile-Lab-Calendar-April-2022.png
END:VEVENT
BEGIN:VEVENT
DTSTART;TZID=America/Chicago:20220404T120000
DTEND;TZID=America/Chicago:20220404T160000
DTSTAMP:20260424T093414
CREATED:20220324T132611Z
LAST-MODIFIED:20220324T132611Z
UID:4683-1649073600-1649088000@www.wfscameron.org
SUMMARY:Southeast Labor Force Hiring Event
DESCRIPTION:Southeast Labor Force is HIRING! \nRight now\, they’re currently seeking: Laborers\, Roofers and Sheet Metal Workers. \nThese positions are currently OUT-OF-STATE but transportation/housing assistance is provided! \nThey’ll be hosting TWO HIRING EVENTS! \nThe first is scheduled on Monday\, April 4th from 12pm – 4pm at our Brownsville Workforce office (851 Old Alice Rd). \nThe second is scheduled on Monday\, April 11th from 12pm – 4pm at our Harlingen Workforce Office (1812 W. Jefferson Ave.). \nWant to read more on the positions? Search the JP #15107085 on workintexas.com \nSee you there! \n#JobsNow
URL:https://www.wfscameron.org/event/southeast-labor-force-hiring-event-2/
LOCATION:TX
ATTACH;FMTTYPE=image/png:https://www.wfscameron.org/wp-content/uploads/2022/03/Southeast-Labor-Force-Hiring-Event-April-2022.png
END:VEVENT
BEGIN:VEVENT
DTSTART;TZID=America/Chicago:20220408T090000
DTEND;TZID=America/Chicago:20220408T160000
DTSTAMP:20260424T093414
CREATED:20220315T212550Z
LAST-MODIFIED:20220315T212550Z
UID:4655-1649408400-1649433600@www.wfscameron.org
SUMMARY:HBNeild Hiring Event
DESCRIPTION:HBNeild is HIRING! \nThey are currently seeking: Journeyman Carpenter\, Finish Carpenter. \nThese positions are located in Beaumont\, TX. \nPAY IS $22/HR – $28/HR (based on experience). \nDon’t miss their hiring event on Friday\, April 8th from 9am – 4pm at our Brownsville Workforce office (851 Old Alice Rd). \nSee you here! \n#JobsNow
URL:https://www.wfscameron.org/event/hbneild-hiring-event/
LOCATION:TX
ATTACH;FMTTYPE=image/png:https://www.wfscameron.org/wp-content/uploads/2022/03/HB-Neild-Hiring-Event-April-2022.png
END:VEVENT
BEGIN:VEVENT
DTSTART;TZID=America/Chicago:20220411T120000
DTEND;TZID=America/Chicago:20220411T160000
DTSTAMP:20260424T093414
CREATED:20220324T132645Z
LAST-MODIFIED:20220324T132645Z
UID:4686-1649678400-1649692800@www.wfscameron.org
SUMMARY:Southeast Labor Force Hiring Event
DESCRIPTION:Southeast Labor Force is HIRING! \nRight now\, they’re currently seeking: Laborers\, Roofers and Sheet Metal Workers. \nThese positions are currently OUT-OF-STATE but transportation/housing assistance is provided! \nThey’ll be hosting TWO HIRING EVENTS! \nThe first is scheduled on Monday\, April 4th from 12pm – 4pm at our Brownsville Workforce office (851 Old Alice Rd). \nThe second is scheduled on Monday\, April 11th from 12pm – 4pm at our Harlingen Workforce Office (1812 W. Jefferson Ave.). \nWant to read more on the positions? Search the JP #15107085 on workintexas.com \nSee you there! \n#JobsNow
URL:https://www.wfscameron.org/event/southeast-labor-force-hiring-event-3/
LOCATION:West Jefferson Harlingen Office\, 1820 W. Jefferson Ave.\, Harlingen\, TX\, 78550\, United States
ATTACH;FMTTYPE=image/png:https://www.wfscameron.org/wp-content/uploads/2022/03/Southeast-Labor-Force-Hiring-Event-April-2022.png
END:VEVENT
BEGIN:VEVENT
DTSTART;TZID=America/Chicago:20220412T090000
DTEND;TZID=America/Chicago:20220412T120000
DTSTAMP:20260424T093414
CREATED:20210824T152532Z
LAST-MODIFIED:20210824T152532Z
UID:4409-1649754000-1649764800@www.wfscameron.org
SUMMARY:[VIRTUAL] Job Readiness Workshop
DESCRIPTION:Our Job Readiness workshops prepare jobseekers of all ages and walks of life to successfully seek and obtain employment.\nUpon completion of the workshop\, participants get a certificate endorsed by Workforce Solutions Cameron.\nTopics include:\n– Job Search Tools\n– Resume Writing\n– Interviewing Principles\n– Financial Literacy featuring Linda Adame\, cdcb.\nJOIN HERE AT 9AM:\nhttps://us02web.zoom.us/j/84247561530
URL:https://www.wfscameron.org/event/virtual-job-readiness-workshop-2-2022-04-12/
LOCATION:TX
ATTACH;FMTTYPE=image/png:https://www.wfscameron.org/wp-content/uploads/2021/07/Job-Readiness-Photo.png
END:VEVENT
BEGIN:VEVENT
DTSTART;TZID=America/Chicago:20220414T090000
DTEND;TZID=America/Chicago:20220414T120000
DTSTAMP:20260424T093414
CREATED:20210824T152431Z
LAST-MODIFIED:20210824T152431Z
UID:4433-1649926800-1649937600@www.wfscameron.org
SUMMARY:[VIRTUAL] Soft Skills Workshop
DESCRIPTION:Our Soft Skills workshops target workers of all ages and industries to set them up for success on the job.\nUpon completion of the virtual workshop\, participants get a certificate endorsed by Workforce Solutions Cameron!\nTopics include:\n– Goal Setting & Teamwork\n– Positive Attitude\n– Taking Initiative\n– Communication Skills\, and more\nJOIN HERE AT 9AM: https://us02web.zoom.us/j/83151883458
URL:https://www.wfscameron.org/event/virtual-soft-skills-workshop-2-2022-04-14/
LOCATION:TX
ATTACH;FMTTYPE=image/jpeg:https://www.wfscameron.org/wp-content/uploads/2021/07/Soft-Skills-Photo.jpg
END:VEVENT
BEGIN:VEVENT
DTSTART;TZID=America/Chicago:20220420T130000
DTEND;TZID=America/Chicago:20220420T160000
DTSTAMP:20260424T093414
CREATED:20210913T135255Z
LAST-MODIFIED:20210913T135255Z
UID:4482-1650459600-1650470400@www.wfscameron.org
SUMMARY:[IN-PERSON] Job Readiness Workshop
DESCRIPTION:Our Job Readiness workshops prepare jobseekers of all ages and walks of life to successfully seek and obtain employment.\nUpon completion of the workshop\, participants get a certificate endorsed by Workforce Solutions Cameron.\nTopics include:\n\n– Job Search Tools\n– Resume Writing\n– Interviewing Principles\n\n– Financial Literacy\n\nHAPPENING SIMULTANEOUSLY IN BOTH HARLINGEN AND BROWNSVILLE!\nHarlingen: 1812 W. Jefferson\, Harlingen\, TX. 78550 \nBrownsville: 5636 Southmost Road Brownsville\, TX. 78521 \n \n\n 
URL:https://www.wfscameron.org/event/in-person-job-readiness-workshop-2022-04-20/
LOCATION:TX
ATTACH;FMTTYPE=image/png:https://www.wfscameron.org/wp-content/uploads/2021/07/Job-Readiness-Photo.png
END:VEVENT
BEGIN:VEVENT
DTSTART;TZID=America/Chicago:20220427T130000
DTEND;TZID=America/Chicago:20220427T160000
DTSTAMP:20260424T093414
CREATED:20210913T135442Z
LAST-MODIFIED:20220425T154552Z
UID:4458-1651064400-1651075200@www.wfscameron.org
SUMMARY:[IN-PERSON] Soft Skills Workshop
DESCRIPTION:Our Soft Skills workshops target workers of all ages and industries to set them up for success on the job. Upon completion of the virtual workshop\, participants get a certificate endorsed by Workforce Solutions Cameron! Topics include: – Goal Setting & Teamwork – Positive Attitude – Taking Initiative – Communication Skills\, and more   HAPPENING SIMULTANEOUSLY IN BOTH HARLINGEN AND BROWNSVILLE! \nHarlingen: 1812 W. Jefferson\, Harlingen\, TX. 78550 \nBrownsville: 851 Old Alice Rd. Brownsville\, TX. 78520
URL:https://www.wfscameron.org/event/in-person-soft-skills-workshop-2022-04-27/
LOCATION:TX
ATTACH;FMTTYPE=image/jpeg:https://www.wfscameron.org/wp-content/uploads/2021/07/Soft-Skills-Photo.jpg
END:VEVENT
BEGIN:VEVENT
DTSTART;TZID=America/Chicago:20220429T120000
DTEND;TZID=America/Chicago:20220429T163000
DTSTAMP:20260424T093414
CREATED:20220412T181817Z
LAST-MODIFIED:20220412T181817Z
UID:4717-1651233600-1651249800@www.wfscameron.org
SUMMARY:JL Specialty Welders Hiring Event
DESCRIPTION:JL Specialty Welders is HIRING! \nThey are currently seeking: Structural Fitters\, Structural Welders. *These positions are located outside Cameron County* \nDon’t miss their hiring event scheduled for Friday\, April 29th from 12pm – 4pm at our Brownsville Workforce office (851 Old Alice Rd). \nCheck out the attached flyer for a list of employer benefits! \nSee you then! \n#JobsNow
URL:https://www.wfscameron.org/event/jl-specialty-welders-hiring-event/
LOCATION:TX
ATTACH;FMTTYPE=image/png:https://www.wfscameron.org/wp-content/uploads/2022/04/JL-Specialty-Welders-LLC-Hiring-Event-April-2022.png
END:VEVENT
END:VCALENDAR