BEGIN:VCALENDAR
VERSION:2.0
PRODID:-//Workforce Solutions Cameron - ECPv6.2.6//NONSGML v1.0//EN
CALSCALE:GREGORIAN
METHOD:PUBLISH
X-ORIGINAL-URL:https://www.wfscameron.org
X-WR-CALDESC:Events for Workforce Solutions Cameron
REFRESH-INTERVAL;VALUE=DURATION:PT1H
X-Robots-Tag:noindex
X-PUBLISHED-TTL:PT1H
BEGIN:VTIMEZONE
TZID:America/Chicago
BEGIN:DAYLIGHT
TZOFFSETFROM:-0600
TZOFFSETTO:-0500
TZNAME:CDT
DTSTART:20230312T080000
END:DAYLIGHT
BEGIN:STANDARD
TZOFFSETFROM:-0500
TZOFFSETTO:-0600
TZNAME:CST
DTSTART:20231105T070000
END:STANDARD
END:VTIMEZONE
BEGIN:VEVENT
DTSTART;VALUE=DATE:20230701
DTEND;VALUE=DATE:20230801
DTSTAMP:20260423T115612
CREATED:20230630T133006Z
LAST-MODIFIED:20230630T133006Z
UID:5880-1688169600-1690847999@www.wfscameron.org
SUMMARY:Mobile Lab Calendar - July 2023
DESCRIPTION:OUR MOBILE LAB IS BACK!\n\n\nCan’t make it to one of our offices? The mobile lab could be coming to YOU!\n\n\nCheck out our calendar for July 2023.\n\n\nThe Mobile Resource Lab is a Workforce Center on wheels! It is equipped with 12 computers and travels all around Cameron County! Some of the services the mobile provides are: Job Search Assistance\, Resume creation & enhancement\, MANGO language learning program\, MAVIS BEACON typing/keyboarding program\, On-site interviewing space and Internet Access!\n\n\nAlso\, the Mobile Lab is ADA Accessible!\n\n\n*To ensure a safe environment\, we are only using 5 computers at a time.\n\n\nSee you soon!
URL:https://www.wfscameron.org/event/mobile-lab-calendar-july-2023/
LOCATION:TX
ATTACH;FMTTYPE=image/png:https://www.wfscameron.org/wp-content/uploads/2023/06/Mobile-Lab-Calendar-July-2023.png
END:VEVENT
BEGIN:VEVENT
DTSTART;TZID=America/Chicago:20230728T090000
DTEND;TZID=America/Chicago:20230728T130000
DTSTAMP:20260423T115612
CREATED:20230717T214102Z
LAST-MODIFIED:20230717T214102Z
UID:6016-1690534800-1690549200@www.wfscameron.org
SUMMARY:CAPA Hiring Event
DESCRIPTION:Don’t miss CAPA’s upcoming hiring event! \nThey’ll be here at our Brownsville Workforce Office (851 Old Alice Rd.) on Friday\, July 28th from 9am – 1pm. \nOpen positions include (JP #16091597): CDL Mixer Drivers\, Diesel Mechanics\, Loader Operators\, General Labors\, Mechanic Helper\, Receptionist\, Plant Manager and Job Checker. \nCheck out the attached flyer for more information. \nSee you there!
URL:https://www.wfscameron.org/event/capa-hiring-event/
LOCATION:Brownsville Workforce Center\, 851 Old Alice Rd\, Brownsville\, TX\, 78520\, United States
ATTACH;FMTTYPE=image/png:https://www.wfscameron.org/wp-content/uploads/2023/07/CAPA-Hiring-Event-7.28.23.png
END:VEVENT
BEGIN:VEVENT
DTSTART;TZID=America/Chicago:20230728T130000
DTEND;TZID=America/Chicago:20230728T160000
DTSTAMP:20260423T115612
CREATED:20230711T201038Z
LAST-MODIFIED:20230712T152227Z
UID:5915-1690549200-1690560000@www.wfscameron.org
SUMMARY:Trailboss Hiring Event
DESCRIPTION:Don’t miss Trailboss’ upcoming hiring event! \nVisit our WFS Cameron office in Harlingen (1812 W. Jefferson Ave.) on Friday\, July 28th from 1pm – 4pm! \nOpen positions include (JP #16084723): Transportation Officer\, Mechanic I\, II and III\, Motor Vehicle Mechanic Helper and General Maintenance Laborer. \nCheck out the attached flyer for more information. \nSee you there!
URL:https://www.wfscameron.org/event/trailboss-hiring-event/
LOCATION:West Jefferson Harlingen Office\, 1820 W. Jefferson Ave.\, Harlingen\, TX\, 78550\, United States
ATTACH;FMTTYPE=image/png:https://www.wfscameron.org/wp-content/uploads/2023/07/Trailboss-Hiring-Event-7.28.23-1.png
END:VEVENT
END:VCALENDAR