BEGIN:VCALENDAR
VERSION:2.0
PRODID:-//Workforce Solutions Cameron - ECPv6.2.6//NONSGML v1.0//EN
CALSCALE:GREGORIAN
METHOD:PUBLISH
X-ORIGINAL-URL:https://www.wfscameron.org
X-WR-CALDESC:Events for Workforce Solutions Cameron
REFRESH-INTERVAL;VALUE=DURATION:PT1H
X-Robots-Tag:noindex
X-PUBLISHED-TTL:PT1H
BEGIN:VTIMEZONE
TZID:America/Chicago
BEGIN:DAYLIGHT
TZOFFSETFROM:-0600
TZOFFSETTO:-0500
TZNAME:CDT
DTSTART:20230312T080000
END:DAYLIGHT
BEGIN:STANDARD
TZOFFSETFROM:-0500
TZOFFSETTO:-0600
TZNAME:CST
DTSTART:20231105T070000
END:STANDARD
END:VTIMEZONE
BEGIN:VEVENT
DTSTART;VALUE=DATE:20230901
DTEND;VALUE=DATE:20231001
DTSTAMP:20260423T084638
CREATED:20230829T150607Z
LAST-MODIFIED:20230829T150607Z
UID:6165-1693526400-1696118399@www.wfscameron.org
SUMMARY:Mobile Lab Calendar - September 2023
DESCRIPTION:OUR MOBILE LAB IS BACK!\n\n\nCan’t make it to one of our offices? The mobile lab could be coming to YOU!\n\n\nCheck out our calendar for September 2023.\n\n\nThe Mobile Resource Lab is a Workforce Center on wheels! It is equipped with 12 computers and travels all around Cameron County! Some of the services the mobile provides are: Job Search Assistance\, Resume creation & enhancement\, MANGO language learning program\, MAVIS BEACON typing/keyboarding program\, On-site interviewing space and Internet Access!\n\n\nAlso\, the Mobile Lab is ADA Accessible!\n\n\n*To ensure a safe environment\, we are only using 5 computers at a time.\n\n\nSee you soon!
URL:https://www.wfscameron.org/event/mobile-lab-calendar-september-2023/
LOCATION:TX
ATTACH;FMTTYPE=image/png:https://www.wfscameron.org/wp-content/uploads/2023/08/Mobile-Lab-Calendar-September-2023.png
END:VEVENT
BEGIN:VEVENT
DTSTART;TZID=America/Chicago:20230906T090000
DTEND;TZID=America/Chicago:20230906T120000
DTSTAMP:20260423T084638
CREATED:20230825T205526Z
LAST-MODIFIED:20230825T205526Z
UID:6147-1693990800-1694001600@www.wfscameron.org
SUMMARY:Loaves and Fishes/Good Neighbor Settlement House Job Fairs
DESCRIPTION:Don’t miss our upcoming job fairs with Loaves and Fishes and Good Neighbor Settlement House! \nNeed a refresher on your resume? Want to know what employers will be asking during your next job interview? \nDon’t miss our Job Readiness classes either! \nCheck out the attached flyer for more information. \nSee you there!
URL:https://www.wfscameron.org/event/loaves-and-fishes-good-neighbor-settlement-house-job-fairs/
LOCATION:TX
ATTACH;FMTTYPE=image/png:https://www.wfscameron.org/wp-content/uploads/2023/08/Loaves-and-FishesGood-Neighbor-September-2023.png
END:VEVENT
BEGIN:VEVENT
DTSTART;TZID=America/Chicago:20230908T080000
DTEND;TZID=America/Chicago:20230908T150000
DTSTAMP:20260423T084638
CREATED:20230829T142747Z
LAST-MODIFIED:20230829T142747Z
UID:6162-1694160000-1694185200@www.wfscameron.org
SUMMARY:Bechtel Hiring Event
DESCRIPTION:Have you heard? \nBechtel is hiring and currently has over a hundred vacancies! \nThey’re currently seeking: Laborer\, Dirt Operator Journeyman and Labored Skill (Direct Craft Support). \nDon’t miss their upcoming hiring event scheduled for Friday\, September 8th from 8am – 3pm. \nThe event will be held at our Workforce Solutions Cameron office in Brownsville (851 Old Alice Rd.) \nSee you there!
URL:https://www.wfscameron.org/event/bechtel-hiring-event/
LOCATION:Brownsville Workforce Center\, 851 Old Alice Rd\, Brownsville\, TX\, 78520\, United States
ATTACH;FMTTYPE=image/png:https://www.wfscameron.org/wp-content/uploads/2023/08/Bechtel-Hiring-Event-9.8.23.png
END:VEVENT
BEGIN:VEVENT
DTSTART;TZID=America/Chicago:20230915T090000
DTEND;TZID=America/Chicago:20230915T130000
DTSTAMP:20260423T084638
CREATED:20230901T181220Z
LAST-MODIFIED:20230901T181220Z
UID:6168-1694768400-1694782800@www.wfscameron.org
SUMMARY:Regency Integrated Health Services Hiring Event
DESCRIPTION:Don’t miss Regency Integrated Health Services’ hiring event! \nDATE: Friday\, September 15th \nTIME: 9AM – 1PM \nPLACE: Workforce Solutions Cameron in Brownsville \n851 Old Alice Rd. Brownsville\, TX. 78520 \nThey are currently seeking: \nJP #16166878 – LVN’s 2nd Shift \nJP #16166898 – CNA’s 2nd and 3rd Shift \nSee you there!
URL:https://www.wfscameron.org/event/regency-integrated-health-services-hiring-event-2/
LOCATION:Brownsville Workforce Center\, 851 Old Alice Rd\, Brownsville\, TX\, 78520\, United States
ATTACH;FMTTYPE=image/png:https://www.wfscameron.org/wp-content/uploads/2023/09/Regency-Hiring-Event-9.15.23.png
END:VEVENT
BEGIN:VEVENT
DTSTART;TZID=America/Chicago:20230920T090000
DTEND;TZID=America/Chicago:20230920T120000
DTSTAMP:20260423T084638
CREATED:20230825T205554Z
LAST-MODIFIED:20230825T205554Z
UID:6150-1695200400-1695211200@www.wfscameron.org
SUMMARY:Loaves and Fishes/Good Neighbor Settlement House Job Fairs
DESCRIPTION:Don’t miss our upcoming job fairs with Loaves and Fishes and Good Neighbor Settlement House! \nNeed a refresher on your resume? Want to know what employers will be asking during your next job interview? \nDon’t miss our Job Readiness classes either! \nCheck out the attached flyer for more information. \nSee you there!
URL:https://www.wfscameron.org/event/loaves-and-fishes-good-neighbor-settlement-house-job-fairs-2/
LOCATION:TX
ATTACH;FMTTYPE=image/png:https://www.wfscameron.org/wp-content/uploads/2023/08/Loaves-and-FishesGood-Neighbor-September-2023.png
END:VEVENT
BEGIN:VEVENT
DTSTART;TZID=America/Chicago:20230929T090000
DTEND;TZID=America/Chicago:20230929T130000
DTSTAMP:20260423T084638
CREATED:20230913T184306Z
LAST-MODIFIED:20230913T184306Z
UID:6199-1695978000-1695992400@www.wfscameron.org
SUMMARY:Cameron County Sheriff's Office Hiring Event
DESCRIPTION:Don’t miss our upcoming hiring event with Cameron County Sheriff’s Office! \nThey are currently hiring: Detention Officers\, Medication Aides\, LVNs. \nThey’ll be at our Workforce office in Brownsville (851 Old Alice Rd) on Friday\, September 29th from 9am – 1pm. \nSee you there!
URL:https://www.wfscameron.org/event/cameron-county-sheriffs-office-hiring-event/
LOCATION:Brownsville Workforce Center\, 851 Old Alice Rd\, Brownsville\, TX\, 78520\, United States
ATTACH;FMTTYPE=image/png:https://www.wfscameron.org/wp-content/uploads/2023/09/Office-of-the-Cameron-County-Sheriff-Hiring-Event.png
END:VEVENT
END:VCALENDAR