BEGIN:VCALENDAR
VERSION:2.0
PRODID:-//Workforce Solutions Cameron - ECPv6.2.6//NONSGML v1.0//EN
CALSCALE:GREGORIAN
METHOD:PUBLISH
X-WR-CALNAME:Workforce Solutions Cameron
X-ORIGINAL-URL:https://www.wfscameron.org
X-WR-CALDESC:Events for Workforce Solutions Cameron
REFRESH-INTERVAL;VALUE=DURATION:PT1H
X-Robots-Tag:noindex
X-PUBLISHED-TTL:PT1H
BEGIN:VTIMEZONE
TZID:America/Chicago
BEGIN:DAYLIGHT
TZOFFSETFROM:-0600
TZOFFSETTO:-0500
TZNAME:CDT
DTSTART:20230312T080000
END:DAYLIGHT
BEGIN:STANDARD
TZOFFSETFROM:-0500
TZOFFSETTO:-0600
TZNAME:CST
DTSTART:20231105T070000
END:STANDARD
END:VTIMEZONE
BEGIN:VEVENT
DTSTART;VALUE=DATE:20231001
DTEND;VALUE=DATE:20231101
DTSTAMP:20260423T071126
CREATED:20230929T211947Z
LAST-MODIFIED:20230929T211947Z
UID:6232-1696118400-1698796799@www.wfscameron.org
SUMMARY:Mobile Lab Calendar - October 2023
DESCRIPTION:OUR MOBILE LAB IS BACK!\n\n\nCan’t make it to one of our offices? The mobile lab could be coming to YOU!\n\n\nCheck out our calendar for October 2023.\n\n\nThe Mobile Resource Lab is a Workforce Center on wheels! It is equipped with 12 computers and travels all around Cameron County! Some of the services the mobile provides are: Job Search Assistance\, Resume creation & enhancement\, MANGO language learning program\, MAVIS BEACON typing/keyboarding program\, On-site interviewing space and Internet Access!\n\n\nAlso\, the Mobile Lab is ADA Accessible!\n\n\n*To ensure a safe environment\, we are only using 5 computers at a time.\n\n\nSee you soon!
URL:https://www.wfscameron.org/event/mobile-lab-calendar-october-2023/
LOCATION:TX
ATTACH;FMTTYPE=image/png:https://www.wfscameron.org/wp-content/uploads/2023/09/Mobile-Lab-Calendar-October-2023.png
END:VEVENT
BEGIN:VEVENT
DTSTART;TZID=America/Chicago:20231019T100000
DTEND;TZID=America/Chicago:20231019T140000
DTSTAMP:20260423T071126
CREATED:20230728T193210Z
LAST-MODIFIED:20231005T141120Z
UID:6057-1697709600-1697724000@www.wfscameron.org
SUMMARY:Spectrum Hiring Event
DESCRIPTION:Spectrum is HIRING! \nDon’t miss their hiring event on Thursday\, October 19th from 10am – 2pm at their offices located at 2921 S Expressway 83\, Harlingen\, TX. 78550. \nThey’re currently seeking Call Center Sales Retention Representatives (Bilingual). \nAPPLICANTS MUST: \nTake their own headphones for testing and updated resume. \nApply BEFORE the hiring event: https://jobs.spectrum.com/job/harlingen/call-center-sales-retention-rep-bilingual-spanish-18-per-hour-plus-commission-and-incentives/4673/54978101072 \nSee you there!
URL:https://www.wfscameron.org/event/spectrum-hiring-event-5/
LOCATION:TX
ATTACH;FMTTYPE=image/png:https://www.wfscameron.org/wp-content/uploads/2023/07/Spectrum-Hiring-Event-10.19.23.png
END:VEVENT
END:VCALENDAR