BEGIN:VCALENDAR
VERSION:2.0
PRODID:-//Workforce Solutions Cameron - ECPv6.2.6//NONSGML v1.0//EN
CALSCALE:GREGORIAN
METHOD:PUBLISH
X-ORIGINAL-URL:https://www.wfscameron.org
X-WR-CALDESC:Events for Workforce Solutions Cameron
REFRESH-INTERVAL;VALUE=DURATION:PT1H
X-Robots-Tag:noindex
X-PUBLISHED-TTL:PT1H
BEGIN:VTIMEZONE
TZID:America/Chicago
BEGIN:DAYLIGHT
TZOFFSETFROM:-0600
TZOFFSETTO:-0500
TZNAME:CDT
DTSTART:20240310T080000
END:DAYLIGHT
BEGIN:STANDARD
TZOFFSETFROM:-0500
TZOFFSETTO:-0600
TZNAME:CST
DTSTART:20241103T070000
END:STANDARD
END:VTIMEZONE
BEGIN:VEVENT
DTSTART;VALUE=DATE:20241201
DTEND;VALUE=DATE:20250101
DTSTAMP:20260423T235753
CREATED:20241121T171832Z
LAST-MODIFIED:20241121T171832Z
UID:7370-1733011200-1735689599@www.wfscameron.org
SUMMARY:Mobile Lab Calendar - December 2024
DESCRIPTION:OUR MOBILE LAB IS BACK!\n\n\nCan’t make it to one of our offices? The mobile lab could be coming to YOU!\n\n\nCheck out our calendar for December 2024.\n\n\nThe Mobile Resource Lab is a Workforce Center on wheels! It is equipped with 12 computers and travels all around Cameron County! Some of the services the mobile provides are: Job Search Assistance\, Resume creation & enhancement\, MAVIS BEACON typing/keyboarding program\, On-site interviewing space and Internet Access!\n\n\nAlso\, the Mobile Lab is ADA Accessible!\n\n\n*To ensure a safe environment\, we are only using 5 computers at a time.\n\n\nSee you soon!
URL:https://www.wfscameron.org/event/mobile-lab-calendar-december-2024/
LOCATION:TX
ATTACH;FMTTYPE=image/png:https://www.wfscameron.org/wp-content/uploads/2024/11/Mobile-Lab-Calendar-December-2024.png
END:VEVENT
BEGIN:VEVENT
DTSTART;TZID=America/Chicago:20241217T090000
DTEND;TZID=America/Chicago:20241217T120000
DTSTAMP:20260423T235753
CREATED:20241203T165547Z
LAST-MODIFIED:20241203T165547Z
UID:7384-1734426000-1734436800@www.wfscameron.org
SUMMARY:Border Patrol Application and Resume Workshop
DESCRIPTION:U.S. Border Patrol is HIRING!\n\n\n \n\n\nDon’t miss their application and resume workshop happening at our Harlingen office (1820 W. Jefferson Ave). on December 17th from 9am – 12pm.\n\n\n \n\n\nASK ABOUT THEIR $20\,000-$30\,000 INCENTIVE!\n\n\n \n\n\nSee you then!
URL:https://www.wfscameron.org/event/border-patrol-application-and-resume-workshop/
LOCATION:West Jefferson Harlingen Office\, 1820 W. Jefferson Ave.\, Harlingen\, TX\, 78550\, United States
ATTACH;FMTTYPE=image/png:https://www.wfscameron.org/wp-content/uploads/2024/12/Border-Patrol-Hiring-Event-December-2024.png
END:VEVENT
BEGIN:VEVENT
DTSTART;TZID=America/Chicago:20241219T090000
DTEND;TZID=America/Chicago:20241219T160000
DTSTAMP:20260423T235753
CREATED:20241210T143214Z
LAST-MODIFIED:20241210T143214Z
UID:7422-1734598800-1734624000@www.wfscameron.org
SUMMARY:Church's Hiring Event
DESCRIPTION:Don’t miss Church’s upcoming hiring event!\n\n\nThey’re currently seeking Shift Leaders and Assistant Restaurant General Managers!\n\nWe’ll see you on Thursday\, December 19th from 9am – 4pm at our Harlingen office (1820 W. Jefferson Ave).
URL:https://www.wfscameron.org/event/churchs-hiring-event/
LOCATION:West Jefferson Harlingen Office\, 1820 W. Jefferson Ave.\, Harlingen\, TX\, 78550\, United States
ATTACH;FMTTYPE=image/png:https://www.wfscameron.org/wp-content/uploads/2024/12/Churchs-Hiring-Event-12.19.24.png
END:VEVENT
END:VCALENDAR